BEGIN:VCALENDAR
VERSION:2.0
PRODID:-//NAMI Greater Mississippi Valley - ECPv6.15.20//NONSGML v1.0//EN
CALSCALE:GREGORIAN
METHOD:PUBLISH
X-WR-CALNAME:NAMI Greater Mississippi Valley
X-ORIGINAL-URL:https://www.namigmv.org
X-WR-CALDESC:Events for NAMI Greater Mississippi Valley
REFRESH-INTERVAL;VALUE=DURATION:PT1H
X-Robots-Tag:noindex
X-PUBLISHED-TTL:PT1H
BEGIN:VTIMEZONE
TZID:America/Chicago
BEGIN:DAYLIGHT
TZOFFSETFROM:-0600
TZOFFSETTO:-0500
TZNAME:CDT
DTSTART:20250309T080000
END:DAYLIGHT
BEGIN:STANDARD
TZOFFSETFROM:-0500
TZOFFSETTO:-0600
TZNAME:CST
DTSTART:20251102T070000
END:STANDARD
BEGIN:DAYLIGHT
TZOFFSETFROM:-0600
TZOFFSETTO:-0500
TZNAME:CDT
DTSTART:20260308T080000
END:DAYLIGHT
BEGIN:STANDARD
TZOFFSETFROM:-0500
TZOFFSETTO:-0600
TZNAME:CST
DTSTART:20261101T070000
END:STANDARD
BEGIN:DAYLIGHT
TZOFFSETFROM:-0600
TZOFFSETTO:-0500
TZNAME:CDT
DTSTART:20270314T080000
END:DAYLIGHT
BEGIN:STANDARD
TZOFFSETFROM:-0500
TZOFFSETTO:-0600
TZNAME:CST
DTSTART:20271107T070000
END:STANDARD
END:VTIMEZONE
BEGIN:VEVENT
DTSTART;TZID=America/Chicago:20260303T180000
DTEND;TZID=America/Chicago:20260303T193000
DTSTAMP:20260424T224710
CREATED:20260205T174853Z
LAST-MODIFIED:20260205T174853Z
UID:10002997-1772560800-1772566200@www.namigmv.org
SUMMARY:Family & Friends - Black Hawk
DESCRIPTION:Family & Friends Seminar – Black Hawk\n\nMarch 3\, 2026 @ 6:00 pm – 7:30 pm\n\n\n\nThis is a free\, 90-minute seminar that informs people who have loved ones with a mental health condition how to best support them. It’s also an opportunity to meet other people in similar situations and gain community support. It will be held at Black Hawk College – 6600 34th Avenue\, Building 1\, Room 301\, Moline\, IL. \nRegister Now \nWHAT YOU’LL LEARN … \nThe seminar is led by trained people with lived experience of supporting a family member with a mental health condition. They will walk you through the following topics. \n\nUnderstanding diagnoses\, treatment and recovery\nEffective communication strategies\nThe importance of self-care\nCrisis preparation strategies\nNAMI and community resources\n\nADDITIONAL RESOURCES …\nOnce you’ve attended our seminar\, we’ll send you Family & Friends companion eBook at no charge. It provides important information about mental health conditions including: conditions and diagnoses\, treatment and recovery\, crisis planning\, resources and more.
URL:https://www.namigmv.org/event/family-friends-black-hawk/
LOCATION:Black Hawk College – Building 1\, 6600 34th Avenue\, Moline\, IL\, 61265\, United States
CATEGORIES:Family training
END:VEVENT
BEGIN:VEVENT
DTSTART;TZID=America/Chicago:20260305T180000
DTEND;TZID=America/Chicago:20260305T190000
DTSTAMP:20260424T224710
CREATED:20251218T171921Z
LAST-MODIFIED:20251218T171921Z
UID:10002840-1772733600-1772737200@www.namigmv.org
SUMMARY:Family Support Group - Muscatine
DESCRIPTION:This group meets the 1st Thursday of each month at 6 p.m. at Calvary Church\, 499 W. 61 Bypass\, Door #B6\, Muscatine. Facilitators are Sara Carlson and Karen Holmes. \nOpen to family and friends of loved ones living with a mental health condition. As a family member you can face unique challenges: complex family dynamics\, social isolation and often unpredictable aspects of the condition. It can be overwhelming. Learn from others and our facilitators who have experience supporting youth and adults living with a mental health condition. \n\n\n\n\n\n\n\nNAMI’s mental health support groups are unique for a number of reasons.\n\n\n\n\n\n\n\nSupport groups are peer-led. A trained facilitator with lived mental illness experience will lead the group using a structured model. This ensures everyone has an opportunity to be heard and have their unique needs met. You are not alone and will never feel that way when you’re here.\nBy sharing your experiences in a safe and confidential setting\, you will gain hope and develop relationships. You will also gain insight from hearing the challenges and triumphs of others. The group encourages empathy\, productive discussion and a sense of community.\nWe also invite humor where appropriate as laughter is sometimes the best medicine!\nWhile NAMI does not offer counseling\, our support groups are often used to supplement the care you receive from a mental health professional.\n\n\nAs with all of our programs\, support groups are free and confidential. Walk-ins welcome.
URL:https://www.namigmv.org/event/family-support-group-muscatine-3/2026-03-05/
LOCATION:Calvary Church\, 499 W. 61 Bypass\, Muscatine\, IA\, 52761\, United States
CATEGORIES:Family training
ORGANIZER;CN="Mark Mathews":MAILTO:mark.mathews@namigmv.org
END:VEVENT
BEGIN:VEVENT
DTSTART;TZID=America/Chicago:20260310T180000
DTEND;TZID=America/Chicago:20260310T203000
DTSTAMP:20260424T224710
CREATED:20260205T181429Z
LAST-MODIFIED:20260316T185640Z
UID:10002999-1773165600-1773174600@www.namigmv.org
SUMMARY:First Day Family to Family Education Program - Black Hawk College
DESCRIPTION:First Day Family to Family Education Program – Black Hawk College\n\nMarch 10\, 2026 @ 6:00 pm – 8:30 pm\n\n\n\nA free\, eight-session course for family members\, caregivers and friends of an adult loved one living with a mental health condition. It will be held at Black Hawk College\, 6600 34th Avenue\, Building 1\, Room 304\, Moline\, IL 51265. \n8 Consecutive Tuesdays from March 10 with last class on Tuesday\, May 5. Learn More \nRegister Today \n\nIf you have trouble registering via this link\, please reach out to Mark Mathews at mark.mathews@namigmv.org.\nIf you are not able to register before the first class\, no worries!  You will be able to sign up manually at the first meeting.\n\nWHAT YOU’LL LEARN … \nNAMI’s Family-to-Family education program is a free\, eight-week\, evidence-based class for families and caregivers of individuals dealing with many different mental health conditions\, including: major depression\, anxiety\, bi-polar disorder\, schizophrenia\, obsessive compulsive disorder (OCD)\, panic disorder\, post-traumatic stress disorder (PTSD)\, and borderline personality disorder. \nThe course is taught by trained family members who have chosen to become instructors after being empowered as a result of taking this course. Many family members describe this program as life changing. \nTopics covered include: \n\nFamily response to trauma\nDiagnosis & dealing with critical periods\nSubtypes of mental health conditions and co-occurring brain addictive disorders\nThe biology of the brain\nEmerging scientific discoveries\nProblem solving\nMedication review\nUnderstanding the inner experience of having a mental health condition\nCommunication skills\nSelf-care\nRehabilitation\nServices available\nAdvocacy: fighting stigma
URL:https://www.namigmv.org/event/first-day-family-to-family-education-program-black-hawk-college/
LOCATION:Black Hawk College – Building 1\, 6600 34th Avenue\, Moline\, IL\, 61265\, United States
CATEGORIES:Advocacy,Family training
END:VEVENT
BEGIN:VEVENT
DTSTART;TZID=America/Chicago:20260310T180000
DTEND;TZID=America/Chicago:20260310T203000
DTSTAMP:20260424T224710
CREATED:20260205T182003Z
LAST-MODIFIED:20260306T164905Z
UID:10003000-1773165600-1773174600@www.namigmv.org
SUMMARY:[Cancelled] First Family to Family Education Program - Muscatine
DESCRIPTION:[Cancelled] First Day Family to Family Education Program – Muscatine\n\nMarch 10\, 2026 @ 6:00 pm – 8:30 pm\n\n\n\nA free\, eight-session course for family members\, caregivers and friends of an adult loved one living with a mental health condition. It will be held at Muscatine Community College\, 152 Colorado Street\, Strahan Building\, Small Conference Room\, Muscatine\, Iowa 52761. \n8 Consecutive Tuesdays from March 10 with last class on Tuesday\, May 5. Learn More \nRegister Today \n\nIf you have trouble registering via this link\, please reach out to Mark Mathews at mark.mathews@namigmv.org.\nIf you are not able to register before the first class\, no worries!  You will be able to sign up manually at the first meeting.\n\nWHAT YOU’LL LEARN … \nNAMI’s Family-to-Family education program is a free\, eight-week\, evidence-based class for families and caregivers of individuals dealing with many different mental health conditions\, including: major depression\, anxiety\, bi-polar disorder\, schizophrenia\, obsessive compulsive disorder (OCD)\, panic disorder\, post-traumatic stress disorder (PTSD)\, and borderline personality disorder. \nThe course is taught by trained family members who have chosen to become instructors after being empowered as a result of taking this course. Many family members describe this program as life changing. \nTopics covered include: \n\nFamily response to trauma\nDiagnosis & dealing with critical periods\nSubtypes of mental health conditions and co-occurring brain addictive disorders\nThe biology of the brain\nEmerging scientific discoveries\nProblem solving\nMedication review\nUnderstanding the inner experience of having a mental health condition\nCommunication skills\nSelf-care\nRehabilitation\nServices available\nAdvocacy: fighting stigma
URL:https://www.namigmv.org/event/first-family-to-family-education-program-muscatine/
LOCATION:Muscatine Community College\, 152 Colorado St.\, Strahan #8\, Muscatine\, IA\, 52761\, United States
CATEGORIES:Advocacy,Family training
END:VEVENT
BEGIN:VEVENT
DTSTART;TZID=America/Chicago:20260314T100000
DTEND;TZID=America/Chicago:20260314T113000
DTSTAMP:20260424T224710
CREATED:20260205T174230Z
LAST-MODIFIED:20260205T174230Z
UID:10002996-1773482400-1773487800@www.namigmv.org
SUMMARY:Family & Friends - Clinton
DESCRIPTION:Family & Friends Seminar – Clinton\n\n\n\nMarch 14\, 2026 @ 10:00 am – 11:30 am\n\n\n\nThis is a free\, 90-minute seminar that informs people who have loved ones with a mental health condition how to best support them. It’s also an opportunity to meet other people in similar situations and gain community support. It will be held at Life Connections Recovery Center – 1663 Lincoln Way\, Suite E\, Clinton\, IA. \nRegister Now \nWHAT YOU’LL LEARN … \nThe seminar is led by trained people with lived experience of supporting a family member with a mental health condition. They will walk you through the following topics. \n\nUnderstanding diagnoses\, treatment and recovery\nEffective communication strategies\nThe importance of self-care\nCrisis preparation strategies\nNAMI and community resources\n\nADDITIONAL RESOURCES …\nOnce you’ve attended our seminar\, we’ll send you Family & Friends companion eBook at no charge. It provides important information about mental health conditions including: conditions and diagnoses\, treatment and recovery\, crisis planning\, resources and more.
URL:https://www.namigmv.org/event/family-friends-clinton/
LOCATION:Life Connections Recovery Center\, 1663 Lincoln Way\, Clinton\, IA\, 52732\, United States
CATEGORIES:Family training
END:VEVENT
BEGIN:VEVENT
DTSTART;TZID=America/Chicago:20260319T183000
DTEND;TZID=America/Chicago:20260319T193000
DTSTAMP:20260424T224710
CREATED:20260105T152547Z
LAST-MODIFIED:20260105T152547Z
UID:10002923-1773945000-1773948600@www.namigmv.org
SUMMARY:NAMI Family Support Group
DESCRIPTION:This group meets the  3rd Thursday of each month at 6:30 p.m. at St. Paul Lutheran Church\, Room 208\, Davenport. \nFacilitators are Deb Frick\, Tami Bogosian and Kelly Heilig. \nOpen to family and friends of loved ones living with a mental health condition. As a family member you can face unique challenges: complex family dynamics\, social isolation and often unpredictable aspects of the condition. It can be overwhelming. Learn from others and our facilitators who have experience supporting youth and adults living with a mental health condition. \n\n\n\n\n\n\n\nNAMI’s mental health support groups are unique for a number of reasons.\n\n\n\n\n\n\n\nSupport groups are peer-led. A trained facilitator with lived mental illness experience will lead the group using a structured model. This ensures everyone has an opportunity to be heard and have their unique needs met. You are not alone and will never feel that way when you’re here.\nBy sharing your experiences in a safe and confidential setting\, you will gain hope and develop relationships. You will also gain insight from hearing the challenges and triumphs of others. The group encourages empathy\, productive discussion and a sense of community.\nWe also invite humor where appropriate as laughter is sometimes the best medicine!\nWhile NAMI does not offer counseling\, our support groups are often used to supplement the care you receive from a mental health professional.\n\n\nAs with all of our programs\, support groups are free and confidential. Walk-ins welcome.
URL:https://www.namigmv.org/event/nami-family-support-group-3-3-2/2026-03-19/
LOCATION:St. Paul Lutheran Church\, 2136 Brady Street\, Davenport\, 52803\, United States
CATEGORIES:Family training
ORGANIZER;CN="Mark Mathews":MAILTO:mark.mathews@namigmv.org
GEO:41.5412589;-90.574772
X-APPLE-STRUCTURED-LOCATION;VALUE=URI;X-ADDRESS=St. Paul Lutheran Church 2136 Brady Street Davenport 52803 United States;X-APPLE-RADIUS=500;X-TITLE=2136 Brady Street:geo:-90.574772,41.5412589
END:VEVENT
END:VCALENDAR