BEGIN:VCALENDAR
VERSION:2.0
PRODID:-//NAMI Greater Mississippi Valley - ECPv6.15.20//NONSGML v1.0//EN
CALSCALE:GREGORIAN
METHOD:PUBLISH
X-ORIGINAL-URL:https://www.namigmv.org
X-WR-CALDESC:Events for NAMI Greater Mississippi Valley
REFRESH-INTERVAL;VALUE=DURATION:PT1H
X-Robots-Tag:noindex
X-PUBLISHED-TTL:PT1H
BEGIN:VTIMEZONE
TZID:America/Chicago
BEGIN:DAYLIGHT
TZOFFSETFROM:-0600
TZOFFSETTO:-0500
TZNAME:CDT
DTSTART:20180311T080000
END:DAYLIGHT
BEGIN:STANDARD
TZOFFSETFROM:-0500
TZOFFSETTO:-0600
TZNAME:CST
DTSTART:20181104T070000
END:STANDARD
BEGIN:DAYLIGHT
TZOFFSETFROM:-0600
TZOFFSETTO:-0500
TZNAME:CDT
DTSTART:20190310T080000
END:DAYLIGHT
BEGIN:STANDARD
TZOFFSETFROM:-0500
TZOFFSETTO:-0600
TZNAME:CST
DTSTART:20191103T070000
END:STANDARD
BEGIN:DAYLIGHT
TZOFFSETFROM:-0600
TZOFFSETTO:-0500
TZNAME:CDT
DTSTART:20200308T080000
END:DAYLIGHT
BEGIN:STANDARD
TZOFFSETFROM:-0500
TZOFFSETTO:-0600
TZNAME:CST
DTSTART:20201101T070000
END:STANDARD
BEGIN:DAYLIGHT
TZOFFSETFROM:-0600
TZOFFSETTO:-0500
TZNAME:CDT
DTSTART:20210314T080000
END:DAYLIGHT
BEGIN:STANDARD
TZOFFSETFROM:-0500
TZOFFSETTO:-0600
TZNAME:CST
DTSTART:20211107T070000
END:STANDARD
BEGIN:DAYLIGHT
TZOFFSETFROM:-0600
TZOFFSETTO:-0500
TZNAME:CDT
DTSTART:20220313T080000
END:DAYLIGHT
BEGIN:STANDARD
TZOFFSETFROM:-0500
TZOFFSETTO:-0600
TZNAME:CST
DTSTART:20221106T070000
END:STANDARD
END:VTIMEZONE
BEGIN:VEVENT
DTSTART;TZID=America/Chicago:20210513T183000
DTEND;TZID=America/Chicago:20210513T193000
DTSTAMP:20260419T073343
CREATED:20210318T195300Z
LAST-MODIFIED:20210318T195300Z
UID:10001797-1620930600-1620934200@www.namigmv.org
SUMMARY:IOOV at Davenport Public Library
DESCRIPTION:In Our Own Voice presenter Danielle tells her story via Davenport Public Library virtual presentation at 6:30 p.m.
URL:https://www.namigmv.org/event/ioov-at-davenport-public-library/
LOCATION:Virtual
CATEGORIES:IOOV
END:VEVENT
BEGIN:VEVENT
DTSTART;TZID=America/Chicago:20200219T103000
DTEND;TZID=America/Chicago:20200219T113000
DTSTAMP:20260419T073343
CREATED:20200129T163755Z
LAST-MODIFIED:20200129T163755Z
UID:10001612-1582108200-1582111800@www.namigmv.org
SUMMARY:In Our Own Voice at Scott County CPPC meeting
DESCRIPTION:
URL:https://www.namigmv.org/event/in-our-own-voice-at-scott-county-cppc-meeting/
CATEGORIES:IOOV
END:VEVENT
BEGIN:VEVENT
DTSTART;TZID=America/Chicago:20191021T100000
DTEND;TZID=America/Chicago:20191021T110000
DTSTAMP:20260419T073343
CREATED:20190630T155400Z
LAST-MODIFIED:20190630T155400Z
UID:10001539-1571652000-1571655600@www.namigmv.org
SUMMARY:IOOV at Rock Island Library Staff Meeting
DESCRIPTION:We’ll be presenting In Our Own Voice today at 10 a.m. and 4 p.m. \nIn Our Own Voice presenters tell their own stories of living with a mental health condition. This is an opportunity to learn first-hand about the challenges\, realities and good things that come from living in recovery. \nIf your organization would like to schedule this no-cost community presentation\, please give us a call at 563-386-7477 Ext. 266 M-F 10-2 or email coordinator@namigmv.org
URL:https://www.namigmv.org/event/ioov-at-rock-island-library-staff-meeting/
CATEGORIES:IOOV
END:VEVENT
BEGIN:VEVENT
DTSTART;TZID=America/Chicago:20190715T080000
DTEND;TZID=America/Chicago:20190715T090000
DTSTAMP:20260419T073343
CREATED:20190316T171029Z
LAST-MODIFIED:20190316T171029Z
UID:10001515-1563177600-1563181200@www.namigmv.org
SUMMARY:In Our Own Voice @ Scott County Sheriff's Dept.
DESCRIPTION:In Our Own Voice presenters Gail and Lynn will tell their own stories of living with a mental health condition. This is an opportunity to learn first-hand about the challenges\, realities and good things that come from living in recovery. \nIf your organization would like to schedule this no-cost community presentation\, please give us a call at 563-386-7477 Ext. 266 M-F 10-2 or email coordinator@namigmv.org \n 
URL:https://www.namigmv.org/event/in-our-own-voice-scott-county-sheriffs-dept/
CATEGORIES:IOOV
END:VEVENT
END:VCALENDAR