BEGIN:VCALENDAR
VERSION:2.0
PRODID:-//NAMI Greater Mississippi Valley - ECPv6.15.20//NONSGML v1.0//EN
CALSCALE:GREGORIAN
METHOD:PUBLISH
X-ORIGINAL-URL:https://www.namigmv.org
X-WR-CALDESC:Events for NAMI Greater Mississippi Valley
REFRESH-INTERVAL;VALUE=DURATION:PT1H
X-Robots-Tag:noindex
X-PUBLISHED-TTL:PT1H
BEGIN:VTIMEZONE
TZID:America/Chicago
BEGIN:DAYLIGHT
TZOFFSETFROM:-0600
TZOFFSETTO:-0500
TZNAME:CDT
DTSTART:20190310T080000
END:DAYLIGHT
BEGIN:STANDARD
TZOFFSETFROM:-0500
TZOFFSETTO:-0600
TZNAME:CST
DTSTART:20191103T070000
END:STANDARD
BEGIN:DAYLIGHT
TZOFFSETFROM:-0600
TZOFFSETTO:-0500
TZNAME:CDT
DTSTART:20200308T080000
END:DAYLIGHT
BEGIN:STANDARD
TZOFFSETFROM:-0500
TZOFFSETTO:-0600
TZNAME:CST
DTSTART:20201101T070000
END:STANDARD
BEGIN:DAYLIGHT
TZOFFSETFROM:-0600
TZOFFSETTO:-0500
TZNAME:CDT
DTSTART:20210314T080000
END:DAYLIGHT
BEGIN:STANDARD
TZOFFSETFROM:-0500
TZOFFSETTO:-0600
TZNAME:CST
DTSTART:20211107T070000
END:STANDARD
END:VTIMEZONE
BEGIN:VEVENT
DTSTART;TZID=America/Chicago:20201010T080000
DTEND;TZID=America/Chicago:20201010T130000
DTSTAMP:20260421T021502
CREATED:20200107T001344Z
LAST-MODIFIED:20200806T153346Z
UID:10001609-1602316800-1602334800@www.namigmv.org
SUMMARY:NAMIWalks Your Way - A Virtual Event
DESCRIPTION:Live stream event @ https://www.facebook.com/NamiWalksGMV/ \nWe are pleased to announce a walk for our times\, NAMIWalks Your Way. \nIt’s like the regular NAMIWalks\, only virtual and with a greater reach: the reach of your imagination\, the depth of your compassion. With many NAMIWalks presented at the end of Mental Illness Awareness Week\, on World Mental Health Day (October 10)\, it promises to be a day to remember. With such a united effort\, we’re guessing that it will be easier than ever to fundraise\, too. Please register a team or donate. Our programs and advocacy are needed more than ever and 100% of the funds raised here – stay here – for our no-cost education and support programs. \nNAMIWalks Your Way means what it sounds like: With so many of our lives compromised and constrained\, you get to make NAMIWalks your own. You can walk around your block\, you can walk around your garden\, you can walk with a wok in your kitchen. If you work from home\, now you can walk at home. You can stand on your head. You can a form a team and see who is the funniest\, fastest or most artistic. You can “Hula hoop for hope.” You can self-fundraise while you self-quarantine — or do it as part of a team. \nDownload Participant Guide_NAMIWalks Your Way \nDownload Fundraising Ideas: NAMIWalks Your Way \nDownload Team Building Ideas: Ways to Participate – NAMIWalks Your Day \nDownload Recognition Gift Program: 2020 NAMIWalks Recognition Program Flier \nRegister your team or sponsor here.
URL:https://www.namigmv.org/event/namiwalks/
LOCATION:Virtual
CATEGORIES:Advocacy,Fundraiser,Volunteers,Walk
ORGANIZER;CN="Caroline Vernon":MAILTO:coordinator@namigmv.org
END:VEVENT
END:VCALENDAR