BEGIN:VCALENDAR
VERSION:2.0
PRODID:-//NAMI Greater Mississippi Valley - ECPv6.15.20//NONSGML v1.0//EN
CALSCALE:GREGORIAN
METHOD:PUBLISH
X-WR-CALNAME:NAMI Greater Mississippi Valley
X-ORIGINAL-URL:https://www.namigmv.org
X-WR-CALDESC:Events for NAMI Greater Mississippi Valley
REFRESH-INTERVAL;VALUE=DURATION:PT1H
X-Robots-Tag:noindex
X-PUBLISHED-TTL:PT1H
BEGIN:VTIMEZONE
TZID:America/Chicago
BEGIN:DAYLIGHT
TZOFFSETFROM:-0600
TZOFFSETTO:-0500
TZNAME:CDT
DTSTART:20230312T080000
END:DAYLIGHT
BEGIN:STANDARD
TZOFFSETFROM:-0500
TZOFFSETTO:-0600
TZNAME:CST
DTSTART:20231105T070000
END:STANDARD
BEGIN:DAYLIGHT
TZOFFSETFROM:-0600
TZOFFSETTO:-0500
TZNAME:CDT
DTSTART:20240310T080000
END:DAYLIGHT
BEGIN:STANDARD
TZOFFSETFROM:-0500
TZOFFSETTO:-0600
TZNAME:CST
DTSTART:20241103T070000
END:STANDARD
BEGIN:DAYLIGHT
TZOFFSETFROM:-0600
TZOFFSETTO:-0500
TZNAME:CDT
DTSTART:20250309T080000
END:DAYLIGHT
BEGIN:STANDARD
TZOFFSETFROM:-0500
TZOFFSETTO:-0600
TZNAME:CST
DTSTART:20251102T070000
END:STANDARD
END:VTIMEZONE
BEGIN:VEVENT
DTSTART;TZID=America/Chicago:20240302T110000
DTEND;TZID=America/Chicago:20240302T120000
DTSTAMP:20260420T105528
CREATED:20230423T214505Z
LAST-MODIFIED:20230423T215716Z
UID:10002011-1709377200-1709380800@www.namigmv.org
SUMMARY:Parents and Caregivers of Youth Support Group
DESCRIPTION:Register Here.  \nSaturdays @ 11 a.m. Please join us in person or online. \nIn Person. Walk ins welcome. We will ask you to provide basic registration information. Family Resources\, 2800 Eastern Avenue\, Building A\, Davenport. (Annie Wittenmyer Campus.) \nVirtual. After registering\, You will receive a system email response with the following information: Zoom Online Meeting Login information. This video meeting is not recorded to ensure your privacy and safety. \nNAMI Support Group Guidelines – our group guidelines provide confidentiality and respect for one another. We use a nationally-developed model and the group lasts 60 minutes. Our facilitators are trained NAMI education volunteers who all have lived experience supporting a youth living with a mental illness. This a specialized NAMI Family Support Group for caregivers of youth living with or exhibiting symptoms of a mental health condition. Parents\, foster parents\, grandparents and other direct caregivers are welcome to attend. As always\, participation is confidential and there is no cost to attend. \nThanks to the Eastern Iowa Mental Health Region for supporting this program. The support group is offered in cooperation with Family Resources who runs an eastern Iowa crisis stabilization unit for youth ages 8 to 17 years. You do not have to have a child under Family Resources care to attend. All caregivers are welcome. \n 
URL:https://www.namigmv.org/event/parents-and-caregivers-of-youth-support-group/2024-03-02/
LOCATION:Family Resources\, 2800 Eastern Avenue\, Building A\, Davenport\, IA\, 52803\, United States
CATEGORIES:Family training
ORGANIZER;CN="Caroline Vernon":MAILTO:coordinator@namigmv.org
GEO:41.547149;-90.5531027
X-APPLE-STRUCTURED-LOCATION;VALUE=URI;X-ADDRESS=Family Resources 2800 Eastern Avenue Building A Davenport IA 52803 United States;X-APPLE-RADIUS=500;X-TITLE=2800 Eastern Avenue\, Building A:geo:-90.5531027,41.547149
END:VEVENT
BEGIN:VEVENT
DTSTART;TZID=America/Chicago:20240309T110000
DTEND;TZID=America/Chicago:20240309T120000
DTSTAMP:20260420T105528
CREATED:20230423T214505Z
LAST-MODIFIED:20230423T215716Z
UID:10002012-1709982000-1709985600@www.namigmv.org
SUMMARY:Parents and Caregivers of Youth Support Group
DESCRIPTION:Register Here.  \nSaturdays @ 11 a.m. Please join us in person or online. \nIn Person. Walk ins welcome. We will ask you to provide basic registration information. Family Resources\, 2800 Eastern Avenue\, Building A\, Davenport. (Annie Wittenmyer Campus.) \nVirtual. After registering\, You will receive a system email response with the following information: Zoom Online Meeting Login information. This video meeting is not recorded to ensure your privacy and safety. \nNAMI Support Group Guidelines – our group guidelines provide confidentiality and respect for one another. We use a nationally-developed model and the group lasts 60 minutes. Our facilitators are trained NAMI education volunteers who all have lived experience supporting a youth living with a mental illness. This a specialized NAMI Family Support Group for caregivers of youth living with or exhibiting symptoms of a mental health condition. Parents\, foster parents\, grandparents and other direct caregivers are welcome to attend. As always\, participation is confidential and there is no cost to attend. \nThanks to the Eastern Iowa Mental Health Region for supporting this program. The support group is offered in cooperation with Family Resources who runs an eastern Iowa crisis stabilization unit for youth ages 8 to 17 years. You do not have to have a child under Family Resources care to attend. All caregivers are welcome. \n 
URL:https://www.namigmv.org/event/parents-and-caregivers-of-youth-support-group/2024-03-09/
LOCATION:Family Resources\, 2800 Eastern Avenue\, Building A\, Davenport\, IA\, 52803\, United States
CATEGORIES:Family training
ORGANIZER;CN="Caroline Vernon":MAILTO:coordinator@namigmv.org
GEO:41.547149;-90.5531027
X-APPLE-STRUCTURED-LOCATION;VALUE=URI;X-ADDRESS=Family Resources 2800 Eastern Avenue Building A Davenport IA 52803 United States;X-APPLE-RADIUS=500;X-TITLE=2800 Eastern Avenue\, Building A:geo:-90.5531027,41.547149
END:VEVENT
BEGIN:VEVENT
DTSTART;TZID=America/Chicago:20240312T183000
DTEND;TZID=America/Chicago:20240312T193000
DTSTAMP:20260420T105528
CREATED:20240401T155553Z
LAST-MODIFIED:20240401T160338Z
UID:10001961-1710268200-1710271800@www.namigmv.org
SUMMARY:NAMI Connection Peer Recovery Support Group - Davenport
DESCRIPTION:A group for adults living with a mental health condition. No cost to attend. 2nd Tuesday of each month from 6:30 to 7:30 PM \nThis group is held in-person at St. Paul Lutheran Church\, Room 208\, 2136 Brady Street\, Davenport. \n(If you are looking for an online group\, NAMI Illinois offers virtual groups Monday & Thursday @ 7 p.m. Please follow NAMI Illinois link.) \nWHAT YOU’LL GAIN: \nBy sharing your experiences in a safe and confidential setting\, you will gain hope and develop relationships. The group encourages empathy\, productive discussion and a sense of community. \nThis group will help you to:\n~See the individual first\, not the condition\n~Recognize that mental illnesses are medical illnesses that have environmental triggers\n~Understand that mental illness are traumatic events\n~Aim for better coping skills\n~Find strength in sharing experiences\n~Reject stigma and not tolerate discrimination\n~Not judge anyone’s pain\n~Forgive ourselves and reject guilt\n~Embrace humor as healthy\n~Accept that we can not solve every problem \nNAMI Support Groups are unique because they follow a structured model to ensure you and others in the group have an opportunity to be heard and to get what you need. The group is led by trained facilitators who also have a mental health condition.
URL:https://www.namigmv.org/event/nami-connection-peer-recovery-support-group-davenport-3-3/2024-03-12/
LOCATION:St. Paul Lutheran Church\, 2136 Brady Street\, Davenport\, 52803\, United States
ORGANIZER;CN="Caroline Vernon":MAILTO:coordinator@namigmv.org
GEO:41.5412589;-90.574772
X-APPLE-STRUCTURED-LOCATION;VALUE=URI;X-ADDRESS=St. Paul Lutheran Church 2136 Brady Street Davenport 52803 United States;X-APPLE-RADIUS=500;X-TITLE=2136 Brady Street:geo:-90.574772,41.5412589
END:VEVENT
BEGIN:VEVENT
DTSTART;TZID=America/Chicago:20240314T180000
DTEND;TZID=America/Chicago:20240314T193000
DTSTAMP:20260420T105528
CREATED:20240107T200427Z
LAST-MODIFIED:20240209T205329Z
UID:10002121-1710439200-1710444600@www.namigmv.org
SUMMARY:NAMI Family & Friends Seminar - Clinton
DESCRIPTION:This is a 90-minute seminar that informs people who have loved ones with a mental health condition how to best support them. It’s also an opportunity to meet other people in similar situations and gain community support. To be held at MercyOne\, Room Number: CL Conference Room A\, 1410 N 4th St\,  Clinton\, IA. \nRegister Through NAMI. \nWHAT YOU’LL LEARN …\nThe seminar is led by trained people with lived experience of supporting a family member with a mental health condition. They will walk you through the following topics. \n– Understanding diagnoses\, treatment and recovery\n– Effective communication strategies\n– The importance of self-care\n– Crisis preparation strategies\n– NAMI and community resources \nADDITIONAL RESOURCES …\nOnce you’ve attended our seminar\, we’ll send you Family & Friends companion eBook at no charge. It provides important information about mental health conditions including: conditions and diagnoses\, treatment and recovery\, crisis planning\, resources and more.
URL:https://www.namigmv.org/event/nami-family-friends-seminar-clinton-2/
LOCATION:MercyOne Clinton\, 1410 N 4th St\, Clinton\, IA\, 52732\, United States
CATEGORIES:Family training
ORGANIZER;CN="Caroline Vernon":MAILTO:coordinator@namigmv.org
END:VEVENT
BEGIN:VEVENT
DTSTART;TZID=America/Chicago:20240316T110000
DTEND;TZID=America/Chicago:20240316T120000
DTSTAMP:20260420T105528
CREATED:20230423T214505Z
LAST-MODIFIED:20230423T215716Z
UID:10002013-1710586800-1710590400@www.namigmv.org
SUMMARY:Parents and Caregivers of Youth Support Group
DESCRIPTION:Register Here.  \nSaturdays @ 11 a.m. Please join us in person or online. \nIn Person. Walk ins welcome. We will ask you to provide basic registration information. Family Resources\, 2800 Eastern Avenue\, Building A\, Davenport. (Annie Wittenmyer Campus.) \nVirtual. After registering\, You will receive a system email response with the following information: Zoom Online Meeting Login information. This video meeting is not recorded to ensure your privacy and safety. \nNAMI Support Group Guidelines – our group guidelines provide confidentiality and respect for one another. We use a nationally-developed model and the group lasts 60 minutes. Our facilitators are trained NAMI education volunteers who all have lived experience supporting a youth living with a mental illness. This a specialized NAMI Family Support Group for caregivers of youth living with or exhibiting symptoms of a mental health condition. Parents\, foster parents\, grandparents and other direct caregivers are welcome to attend. As always\, participation is confidential and there is no cost to attend. \nThanks to the Eastern Iowa Mental Health Region for supporting this program. The support group is offered in cooperation with Family Resources who runs an eastern Iowa crisis stabilization unit for youth ages 8 to 17 years. You do not have to have a child under Family Resources care to attend. All caregivers are welcome. \n 
URL:https://www.namigmv.org/event/parents-and-caregivers-of-youth-support-group/2024-03-16/
LOCATION:Family Resources\, 2800 Eastern Avenue\, Building A\, Davenport\, IA\, 52803\, United States
CATEGORIES:Family training
ORGANIZER;CN="Caroline Vernon":MAILTO:coordinator@namigmv.org
GEO:41.547149;-90.5531027
X-APPLE-STRUCTURED-LOCATION;VALUE=URI;X-ADDRESS=Family Resources 2800 Eastern Avenue Building A Davenport IA 52803 United States;X-APPLE-RADIUS=500;X-TITLE=2800 Eastern Avenue\, Building A:geo:-90.5531027,41.547149
END:VEVENT
BEGIN:VEVENT
DTSTART;TZID=America/Chicago:20240318T180000
DTEND;TZID=America/Chicago:20240318T203000
DTSTAMP:20260420T105528
CREATED:20240105T212317Z
LAST-MODIFIED:20240105T212518Z
UID:10002118-1710784800-1710793800@www.namigmv.org
SUMMARY:1st Day Family to Family Education Program - Bettendorf
DESCRIPTION:An eight-session course for family members\, caregivers and friends of an adult loved one living with a mental health condition. \n\n\n\nMondays from March 18 to May 6. Learn More \n\n\n\nFree. Register through Scott Community College \nClass size is limited to (20). As this course is funded by the Eastern Iowa Mental Health Region\, residents of Muscatine\, Cedar\, Scott\, Jackson and Clinton counties are given registration priority. For further information\, call our NAMI office at 563-386-7477-x 266 (M-F 10-2).
URL:https://www.namigmv.org/event/1st-day-family-to-family-education-program-bettendorf/
LOCATION:Scott Community College Belmont Campus\, 500 Belmont Road\, Room 1207\, Bettendorf\, IA\, 52722\, United States
CATEGORIES:Family training
ORGANIZER;CN="Caroline Vernon":MAILTO:coordinator@namigmv.org
END:VEVENT
BEGIN:VEVENT
DTSTART;TZID=America/Chicago:20240321T180000
DTEND;TZID=America/Chicago:20240321T193000
DTSTAMP:20260420T105528
CREATED:20240209T203145Z
LAST-MODIFIED:20240209T205533Z
UID:10002123-1711044000-1711049400@www.namigmv.org
SUMMARY:Family & Friends - West Liberty
DESCRIPTION:This is a 90-minute seminar that informs people who have loved ones with a mental health condition how to best support them. It’s also an opportunity to meet other people in similar situations and gain community support. To be held at First Church United\, 11 North Calhoun Street\, West Liberty. \nRegister Now \nWHAT YOU’LL LEARN …\nThe seminar is led by trained people with lived experience of supporting a family member with a mental health condition. They will walk you through the following topics. \n– Understanding diagnoses\, treatment and recovery\n– Effective communication strategies\n– The importance of self-care\n– Crisis preparation strategies\n– NAMI and community resources \nADDITIONAL RESOURCES …\nOnce you’ve attended our seminar\, we’ll send you Family & Friends companion eBook at no charge. It provides important information about mental health conditions including: conditions and diagnoses\, treatment and recovery\, crisis planning\, resources and more.
URL:https://www.namigmv.org/event/family-friends-west-liberty/
LOCATION:First Church United\, 1100 N. Calhoun St.\, West Liberty\, IA\, 52776\, United States
CATEGORIES:Family training
ORGANIZER;CN="Caroline Vernon":MAILTO:coordinator@namigmv.org
END:VEVENT
BEGIN:VEVENT
DTSTART;TZID=America/Chicago:20240321T183000
DTEND;TZID=America/Chicago:20240321T193000
DTSTAMP:20260420T105528
CREATED:20231031T185906Z
LAST-MODIFIED:20240828T162835Z
UID:10002102-1711045800-1711049400@www.namigmv.org
SUMMARY:NAMI Family Support Group
DESCRIPTION:This group meets the  3rd Thursday of each month at 6:30 p.m. at St. Paul Lutheran Church\, Room 208\, Davenport. \nFacilitators are Deb Frick\, Tami Bogosian and Kelly Heilig. \nOpen to family and friends of loved ones living with a mental health condition. As a family member you can face unique challenges: complex family dynamics\, social isolation and often unpredictable aspects of the condition. It can be overwhelming. Learn from others and our facilitators who have experience supporting youth and adults living with a mental health condition. \n\n\n\n\n\n\n\nNAMI’s mental health support groups are unique for a number of reasons.\n\n\n\n\n\n\n\nSupport groups are peer-led. A trained facilitator with lived mental illness experience will lead the group using a structured model. This ensures everyone has an opportunity to be heard and have their unique needs met. You are not alone and will never feel that way when you’re here.\nBy sharing your experiences in a safe and confidential setting\, you will gain hope and develop relationships. You will also gain insight from hearing the challenges and triumphs of others. The group encourages empathy\, productive discussion and a sense of community.\nWe also invite humor where appropriate as laughter is sometimes the best medicine!\nWhile NAMI does not offer counseling\, our support groups are often used to supplement the care you receive from a mental health professional.\n\n\nAs with all of our programs\, support groups are free and confidential. Walk-ins welcome.
URL:https://www.namigmv.org/event/nami-family-support-group/2024-03-21/
LOCATION:St. Paul Lutheran Church\, 2136 Brady Street\, Davenport\, 52803\, United States
CATEGORIES:Family training
ORGANIZER;CN="Caroline Vernon":MAILTO:coordinator@namigmv.org
GEO:41.5412589;-90.574772
X-APPLE-STRUCTURED-LOCATION;VALUE=URI;X-ADDRESS=St. Paul Lutheran Church 2136 Brady Street Davenport 52803 United States;X-APPLE-RADIUS=500;X-TITLE=2136 Brady Street:geo:-90.574772,41.5412589
END:VEVENT
BEGIN:VEVENT
DTSTART;TZID=America/Chicago:20240323T080000
DTEND;TZID=America/Chicago:20240323T200000
DTSTAMP:20260420T105528
CREATED:20240220T205451Z
LAST-MODIFIED:20240220T210225Z
UID:10002124-1711180800-1711224000@www.namigmv.org
SUMMARY:Soultru presents a Twitch Event for NAMI
DESCRIPTION:All Day @R1plak on Twitch.
URL:https://www.namigmv.org/event/soultru-presents-a-twitch-event-for-nami/
CATEGORIES:Fundraiser
END:VEVENT
BEGIN:VEVENT
DTSTART;TZID=America/Chicago:20240323T110000
DTEND;TZID=America/Chicago:20240323T120000
DTSTAMP:20260420T105528
CREATED:20230423T214505Z
LAST-MODIFIED:20230423T215716Z
UID:10002014-1711191600-1711195200@www.namigmv.org
SUMMARY:Parents and Caregivers of Youth Support Group
DESCRIPTION:Register Here.  \nSaturdays @ 11 a.m. Please join us in person or online. \nIn Person. Walk ins welcome. We will ask you to provide basic registration information. Family Resources\, 2800 Eastern Avenue\, Building A\, Davenport. (Annie Wittenmyer Campus.) \nVirtual. After registering\, You will receive a system email response with the following information: Zoom Online Meeting Login information. This video meeting is not recorded to ensure your privacy and safety. \nNAMI Support Group Guidelines – our group guidelines provide confidentiality and respect for one another. We use a nationally-developed model and the group lasts 60 minutes. Our facilitators are trained NAMI education volunteers who all have lived experience supporting a youth living with a mental illness. This a specialized NAMI Family Support Group for caregivers of youth living with or exhibiting symptoms of a mental health condition. Parents\, foster parents\, grandparents and other direct caregivers are welcome to attend. As always\, participation is confidential and there is no cost to attend. \nThanks to the Eastern Iowa Mental Health Region for supporting this program. The support group is offered in cooperation with Family Resources who runs an eastern Iowa crisis stabilization unit for youth ages 8 to 17 years. You do not have to have a child under Family Resources care to attend. All caregivers are welcome. \n 
URL:https://www.namigmv.org/event/parents-and-caregivers-of-youth-support-group/2024-03-23/
LOCATION:Family Resources\, 2800 Eastern Avenue\, Building A\, Davenport\, IA\, 52803\, United States
CATEGORIES:Family training
ORGANIZER;CN="Caroline Vernon":MAILTO:coordinator@namigmv.org
GEO:41.547149;-90.5531027
X-APPLE-STRUCTURED-LOCATION;VALUE=URI;X-ADDRESS=Family Resources 2800 Eastern Avenue Building A Davenport IA 52803 United States;X-APPLE-RADIUS=500;X-TITLE=2800 Eastern Avenue\, Building A:geo:-90.5531027,41.547149
END:VEVENT
BEGIN:VEVENT
DTSTART;TZID=America/Chicago:20240325T183000
DTEND;TZID=America/Chicago:20240325T193000
DTSTAMP:20260420T105528
CREATED:20231120T175028Z
LAST-MODIFIED:20240401T155213Z
UID:10002113-1711391400-1711395000@www.namigmv.org
SUMMARY:NAMI Connection Peer Recovery Support Group - Moline
DESCRIPTION:A group for adults living with a mental health condition. No cost to attend. 4th Monday of each month from 6:30 to 7:30 PM \nThis group is held in-person at the Butterworth Center – Orchid Room\, @ 1105 8th St.\, Moline. Use parking lot at 8th St. & 11th Ave. \n(If you are looking for an online group\, NAMI Illinois offers virtual groups Monday & Thursday @ 7 p.m. Please follow NAMI Illinois link.) \nWHAT YOU’LL GAIN: \nBy sharing your experiences in a safe and confidential setting\, you will gain hope and develop relationships. The group encourages empathy\, productive discussion and a sense of community. \nThis group will help you to:\n~See the individual first\, not the condition\n~Recognize that mental illnesses are medical illnesses that have environmental triggers\n~Understand that mental illness are traumatic events\n~Aim for better coping skills\n~Find strength in sharing experiences\n~Reject stigma and not tolerate discrimination\n~Not judge anyone’s pain\n~Forgive ourselves and reject guilt\n~Embrace humor as healthy\n~Accept that we can not solve every problem \nNAMI Support Groups are unique because they follow a structured model to ensure you and others in the group have an opportunity to be heard and to get what you need. The group is led by trained facilitators who also have a mental health condition.
URL:https://www.namigmv.org/event/nami-connection-peer-recovery-support-group-moline-2/2024-03-25/
LOCATION:Butterworth Center\, 1105 8th Street\, Moline\, IL\, 61265\, United States
ORGANIZER;CN="Caroline Vernon":MAILTO:coordinator@namigmv.org
END:VEVENT
BEGIN:VEVENT
DTSTART;TZID=America/Chicago:20240330T110000
DTEND;TZID=America/Chicago:20240330T120000
DTSTAMP:20260420T105528
CREATED:20240305T193019Z
LAST-MODIFIED:20240305T193035Z
UID:10002015-1711796400-1711800000@www.namigmv.org
SUMMARY:CANCELLED FOR HOLIDAY.  Caregivers of Youth Support Group
DESCRIPTION:Register Here.  \nSaturdays @ 11 a.m. Please join us in person or online. \nIn Person. Walk ins welcome. We will ask you to provide basic registration information. Family Resources\, 2800 Eastern Avenue\, Building A\, Davenport. (Annie Wittenmyer Campus.) \nVirtual. After registering\, You will receive a system email response with the following information: Zoom Online Meeting Login information. This video meeting is not recorded to ensure your privacy and safety. \nNAMI Support Group Guidelines – our group guidelines provide confidentiality and respect for one another. We use a nationally-developed model and the group lasts 60 minutes. Our facilitators are trained NAMI education volunteers who all have lived experience supporting a youth living with a mental illness. This a specialized NAMI Family Support Group for caregivers of youth living with or exhibiting symptoms of a mental health condition. Parents\, foster parents\, grandparents and other direct caregivers are welcome to attend. As always\, participation is confidential and there is no cost to attend. \nThanks to the Eastern Iowa Mental Health Region for supporting this program. The support group is offered in cooperation with Family Resources who runs an eastern Iowa crisis stabilization unit for youth ages 8 to 17 years. You do not have to have a child under Family Resources care to attend. All caregivers are welcome. \n 
URL:https://www.namigmv.org/event/parents-and-caregivers-of-youth-support-group-9/
LOCATION:Family Resources\, 2800 Eastern Avenue\, Building A\, Davenport\, IA\, 52803\, United States
CATEGORIES:Family training
ORGANIZER;CN="Caroline Vernon":MAILTO:coordinator@namigmv.org
GEO:41.547149;-90.5531027
X-APPLE-STRUCTURED-LOCATION;VALUE=URI;X-ADDRESS=Family Resources 2800 Eastern Avenue Building A Davenport IA 52803 United States;X-APPLE-RADIUS=500;X-TITLE=2800 Eastern Avenue\, Building A:geo:-90.5531027,41.547149
END:VEVENT
END:VCALENDAR