BEGIN:VCALENDAR
VERSION:2.0
PRODID:-//NAMI Greater Mississippi Valley - ECPv6.15.20//NONSGML v1.0//EN
CALSCALE:GREGORIAN
METHOD:PUBLISH
X-WR-CALNAME:NAMI Greater Mississippi Valley
X-ORIGINAL-URL:https://www.namigmv.org
X-WR-CALDESC:Events for NAMI Greater Mississippi Valley
REFRESH-INTERVAL;VALUE=DURATION:PT1H
X-Robots-Tag:noindex
X-PUBLISHED-TTL:PT1H
BEGIN:VTIMEZONE
TZID:America/Chicago
BEGIN:DAYLIGHT
TZOFFSETFROM:-0600
TZOFFSETTO:-0500
TZNAME:CDT
DTSTART:20230312T080000
END:DAYLIGHT
BEGIN:STANDARD
TZOFFSETFROM:-0500
TZOFFSETTO:-0600
TZNAME:CST
DTSTART:20231105T070000
END:STANDARD
BEGIN:DAYLIGHT
TZOFFSETFROM:-0600
TZOFFSETTO:-0500
TZNAME:CDT
DTSTART:20240310T080000
END:DAYLIGHT
BEGIN:STANDARD
TZOFFSETFROM:-0500
TZOFFSETTO:-0600
TZNAME:CST
DTSTART:20241103T070000
END:STANDARD
BEGIN:DAYLIGHT
TZOFFSETFROM:-0600
TZOFFSETTO:-0500
TZNAME:CDT
DTSTART:20250309T080000
END:DAYLIGHT
BEGIN:STANDARD
TZOFFSETFROM:-0500
TZOFFSETTO:-0600
TZNAME:CST
DTSTART:20251102T070000
END:STANDARD
END:VTIMEZONE
BEGIN:VEVENT
DTSTART;TZID=America/Chicago:20240606T180000
DTEND;TZID=America/Chicago:20240606T190000
DTSTAMP:20260420T150714
CREATED:20240515T170938Z
LAST-MODIFIED:20240515T170938Z
UID:10002191-1717696800-1717700400@www.namigmv.org
SUMMARY:NAMI Sharing Hope: Black Families & Mental Wellness
DESCRIPTION:Did you know that 1 in 5 adults experience a mental health crisis every year? Outreach and support to underserved & minority populations are critical during today’s economic hardships\, uncertainty and increased needs. NAMI Sharing Hope is a FREE presentation intended to help families engage in healthy dialogue while learning how to care for their personal mental health and that of their families. Hear from NAMI members who share their families’ stories. Light meal provided at no charge. Enjoy Lady V’s Cuisines at Lincoln Center.  \nSharing Hope – Lincoln Center 06.06.24
URL:https://www.namigmv.org/event/nami-sharing-hope-black-families-mental-wellness/
LOCATION:TMBC Lincoln Center\, 318 E 7th St\, Davenport\, IA\, 52803\, United States
CATEGORIES:Outreach
ORGANIZER;CN="Caroline Vernon":MAILTO:coordinator@namigmv.org
END:VEVENT
BEGIN:VEVENT
DTSTART;TZID=America/Chicago:20240611T183000
DTEND;TZID=America/Chicago:20240611T193000
DTSTAMP:20260420T150714
CREATED:20240605T003303Z
LAST-MODIFIED:20240605T003304Z
UID:10002129-1718130600-1718134200@www.namigmv.org
SUMMARY:CANCELLED FOR JUNE 11. NAMI Connection Peer Recovery Support Group - Davenport
DESCRIPTION:A group for adults living with a mental health condition. No cost to attend. 2nd Tuesday of each month from 6:30 to 7:30 PM \nThis group is held in-person at St. Paul Lutheran Church\, Room 208\, 2136 Brady Street\, Davenport. \n(If you are looking for an online group\, NAMI Illinois offers virtual groups Monday & Thursday @ 7 p.m. Please follow NAMI Illinois link.) \nWHAT YOU’LL GAIN: \nBy sharing your experiences in a safe and confidential setting\, you will gain hope and develop relationships. The group encourages empathy\, productive discussion and a sense of community. \nThis group will help you to:\n~See the individual first\, not the condition\n~Recognize that mental illnesses are medical illnesses that have environmental triggers\n~Understand that mental illness are traumatic events\n~Aim for better coping skills\n~Find strength in sharing experiences\n~Reject stigma and not tolerate discrimination\n~Not judge anyone’s pain\n~Forgive ourselves and reject guilt\n~Embrace humor as healthy\n~Accept that we can not solve every problem \nNAMI Support Groups are unique because they follow a structured model to ensure you and others in the group have an opportunity to be heard and to get what you need. The group is led by trained facilitators who also have a mental health condition.
URL:https://www.namigmv.org/event/nami-connection-peer-recovery-support-group-davenport-3-3-2/
LOCATION:St. Paul Lutheran Church\, 2136 Brady Street\, Davenport\, 52803\, United States
ORGANIZER;CN="Caroline Vernon":MAILTO:coordinator@namigmv.org
GEO:41.5412589;-90.574772
X-APPLE-STRUCTURED-LOCATION;VALUE=URI;X-ADDRESS=St. Paul Lutheran Church 2136 Brady Street Davenport 52803 United States;X-APPLE-RADIUS=500;X-TITLE=2136 Brady Street:geo:-90.574772,41.5412589
END:VEVENT
BEGIN:VEVENT
DTSTART;TZID=America/Chicago:20240613T180000
DTEND;TZID=America/Chicago:20240613T193000
DTSTAMP:20260420T150714
CREATED:20240603T123550Z
LAST-MODIFIED:20240603T123945Z
UID:10002192-1718301600-1718307000@www.namigmv.org
SUMMARY:Annual Meeting: Emerging Pediatric Needs
DESCRIPTION:Register Here. \n6 p.m. Dinner & childcare provided. Free. Please register (Se proporciona cena y cuidado de niños. Gratis. Por favor regístrese). \n6:20 p.m. Board Business – Consent Agenda. Ratification of New Board Member. (Asuntos de la Junta Directiva – Agenda de Consentimiento. Ratificación de Nuevo Consejero.) \n6:30 to 7:30 p.m. – Focus on Emerging Youth Mental Health Needs. NAMI Parent & Caregiver Support Group and Illinois & Iowa local resource experts will be present to answer questions. (Centrarse en las necesidades emergentes de salud mental de los jóvenes. El grupo de apoyo para padres y cuidadores de NAMI y expertos en recursos locales de Illinois e Iowa estarán presentes para responder preguntas.) \n\n\nWelcome (Bienvenida) – Torri Smith\, Boys & Girls Club \n\n\nPresentation (Presentación) – Angelica Villareal\, Birth to 5 Illinois\, on the emerging pediatric mental health crisis\, gaps in available services and their recommendations to the Illinois Board of Education (Birth to 5 Illinois\, sobre la emergente crisis de salud mental pediátrica\, las brechas en los servicios disponibles y sus recomendaciones a la Junta de Educación de Illinois.) \n\n\nCommunity Input Needed – a café or roundtable discussion on service gaps. (Se necesita aporte de la comunidad: un café o una mesa redonda sobre las brechas en el servicio.)
URL:https://www.namigmv.org/event/annual-meeting-emerging-pediatric-needs/
LOCATION:Boys & Girls Club – Moline\, 1122 5th Ave\, Moline\, IL\, 61265\, United States
CATEGORIES:Advocacy,Outreach
ORGANIZER;CN="Caroline Vernon":MAILTO:coordinator@namigmv.org
END:VEVENT
BEGIN:VEVENT
DTSTART;TZID=America/Chicago:20240620T183000
DTEND;TZID=America/Chicago:20240620T193000
DTSTAMP:20260420T150714
CREATED:20231031T185906Z
LAST-MODIFIED:20240828T162835Z
UID:10002105-1718908200-1718911800@www.namigmv.org
SUMMARY:NAMI Family Support Group
DESCRIPTION:This group meets the  3rd Thursday of each month at 6:30 p.m. at St. Paul Lutheran Church\, Room 208\, Davenport. \nFacilitators are Deb Frick\, Tami Bogosian and Kelly Heilig. \nOpen to family and friends of loved ones living with a mental health condition. As a family member you can face unique challenges: complex family dynamics\, social isolation and often unpredictable aspects of the condition. It can be overwhelming. Learn from others and our facilitators who have experience supporting youth and adults living with a mental health condition. \n\n\n\n\n\n\n\nNAMI’s mental health support groups are unique for a number of reasons.\n\n\n\n\n\n\n\nSupport groups are peer-led. A trained facilitator with lived mental illness experience will lead the group using a structured model. This ensures everyone has an opportunity to be heard and have their unique needs met. You are not alone and will never feel that way when you’re here.\nBy sharing your experiences in a safe and confidential setting\, you will gain hope and develop relationships. You will also gain insight from hearing the challenges and triumphs of others. The group encourages empathy\, productive discussion and a sense of community.\nWe also invite humor where appropriate as laughter is sometimes the best medicine!\nWhile NAMI does not offer counseling\, our support groups are often used to supplement the care you receive from a mental health professional.\n\n\nAs with all of our programs\, support groups are free and confidential. Walk-ins welcome.
URL:https://www.namigmv.org/event/nami-family-support-group/2024-06-20/
LOCATION:St. Paul Lutheran Church\, 2136 Brady Street\, Davenport\, 52803\, United States
CATEGORIES:Family training
ORGANIZER;CN="Caroline Vernon":MAILTO:coordinator@namigmv.org
GEO:41.5412589;-90.574772
X-APPLE-STRUCTURED-LOCATION;VALUE=URI;X-ADDRESS=St. Paul Lutheran Church 2136 Brady Street Davenport 52803 United States;X-APPLE-RADIUS=500;X-TITLE=2136 Brady Street:geo:-90.574772,41.5412589
END:VEVENT
BEGIN:VEVENT
DTSTART;TZID=America/Chicago:20240622T100000
DTEND;TZID=America/Chicago:20240622T113000
DTSTAMP:20260420T150714
CREATED:20240402T204431Z
LAST-MODIFIED:20240402T204529Z
UID:10002189-1719050400-1719055800@www.namigmv.org
SUMMARY:NAMI Family & Friends Seminar
DESCRIPTION:This is a 90-minute seminar that informs people who have loved ones with a mental health condition how to best support them. It’s also an opportunity to meet other people in similar situations and gain community support. To be held at Davenport Public Library – Main Branch Downtown. \nRegister Through NAMI. \nWHAT YOU’LL LEARN …\nThe seminar is led by trained people with lived experience of supporting a family member with a mental health condition. They will walk you through the following topics. \n– Understanding diagnoses\, treatment and recovery\n– Effective communication strategies\n– The importance of self-care\n– Crisis preparation strategies\n– NAMI and community resources \nADDITIONAL RESOURCES …\nOnce you’ve attended our seminar\, we’ll send you Family & Friends companion eBook at no charge. It provides important information about mental health conditions including: conditions and diagnoses\, treatment and recovery\, crisis planning\, resources and more.
URL:https://www.namigmv.org/event/nami-family-friends-seminar-19/
LOCATION:Davenport Public Library Downtown\, 321 N. Main Street\, Davenport\, IA\, 52801\, United States
CATEGORIES:Family training,Outreach
ORGANIZER;CN="Caroline Vernon":MAILTO:coordinator@namigmv.org
GEO:41.5231972;-90.5751184
X-APPLE-STRUCTURED-LOCATION;VALUE=URI;X-ADDRESS=Davenport Public Library Downtown 321 N. Main Street Davenport IA 52801 United States;X-APPLE-RADIUS=500;X-TITLE=321 N. Main Street:geo:-90.5751184,41.5231972
END:VEVENT
BEGIN:VEVENT
DTSTART;TZID=America/Chicago:20240624T183000
DTEND;TZID=America/Chicago:20240624T193000
DTSTAMP:20260420T150714
CREATED:20240603T124544Z
LAST-MODIFIED:20240603T124658Z
UID:10002193-1719253800-1719257400@www.namigmv.org
SUMMARY:NAMI Connection Peer Recovery Support Group - Moline
DESCRIPTION:A group for adults living with a mental health condition. No cost to attend. 4th Monday of each month from 6:30 to 7:30 PM \nThis group is held in-person at the Butterworth Center – Orchid Room\, @ 1105 8th St.\, Moline. Use parking lot at 8th St. & 11th Ave. \n(If you are looking for an online group\, NAMI Illinois offers virtual groups Monday & Thursday @ 7 p.m. Please follow NAMI Illinois link.) \nWHAT YOU’LL GAIN: \nBy sharing your experiences in a safe and confidential setting\, you will gain hope and develop relationships. The group encourages empathy\, productive discussion and a sense of community. \nThis group will help you to:\n~See the individual first\, not the condition\n~Recognize that mental illnesses are medical illnesses that have environmental triggers\n~Understand that mental illness are traumatic events\n~Aim for better coping skills\n~Find strength in sharing experiences\n~Reject stigma and not tolerate discrimination\n~Not judge anyone’s pain\n~Forgive ourselves and reject guilt\n~Embrace humor as healthy\n~Accept that we can not solve every problem \nNAMI Support Groups are unique because they follow a structured model to ensure you and others in the group have an opportunity to be heard and to get what you need. The group is led by trained facilitators who also have a mental health condition.
URL:https://www.namigmv.org/event/nami-connection-peer-recovery-support-group-moline-3/2024-06-24/
LOCATION:Butterworth Center\, 1105 8th Street\, Moline\, IL\, 61265\, United States
CATEGORIES:Peer training
ORGANIZER;CN="Caroline Vernon":MAILTO:coordinator@namigmv.org
END:VEVENT
BEGIN:VEVENT
DTSTART;TZID=America/Chicago:20240627T173000
DTEND;TZID=America/Chicago:20240627T190000
DTSTAMP:20260420T150714
CREATED:20240603T141238Z
LAST-MODIFIED:20240603T141238Z
UID:10002253-1719509400-1719514800@www.namigmv.org
SUMMARY:NAMIWalks Kickoff
DESCRIPTION:Calling all Team Captains and Sponsors. Enjoy special Mocktails and Hors d’oeuvres on the patio at The Half Nelson\, Davenport. Let’s kickoff NAMIWalks season as we prepare for the Quad Cities’ largest mental health advocacy walk. Team captain packet pickup. \nRegister Today.
URL:https://www.namigmv.org/event/namiwalks-kickoff/
LOCATION:The Half Nelson\, 321 E. 2nd St\, Davenport\, IA\, 52801\, United States
CATEGORIES:Advocacy,Fundraiser
ORGANIZER;CN="Caroline Vernon":MAILTO:coordinator@namigmv.org
END:VEVENT
END:VCALENDAR