BEGIN:VCALENDAR
VERSION:2.0
PRODID:-//NAMI Greater Mississippi Valley - ECPv6.15.20//NONSGML v1.0//EN
CALSCALE:GREGORIAN
METHOD:PUBLISH
X-WR-CALNAME:NAMI Greater Mississippi Valley
X-ORIGINAL-URL:https://www.namigmv.org
X-WR-CALDESC:Events for NAMI Greater Mississippi Valley
REFRESH-INTERVAL;VALUE=DURATION:PT1H
X-Robots-Tag:noindex
X-PUBLISHED-TTL:PT1H
BEGIN:VTIMEZONE
TZID:America/Chicago
BEGIN:DAYLIGHT
TZOFFSETFROM:-0600
TZOFFSETTO:-0500
TZNAME:CDT
DTSTART:20230312T080000
END:DAYLIGHT
BEGIN:STANDARD
TZOFFSETFROM:-0500
TZOFFSETTO:-0600
TZNAME:CST
DTSTART:20231105T070000
END:STANDARD
BEGIN:DAYLIGHT
TZOFFSETFROM:-0600
TZOFFSETTO:-0500
TZNAME:CDT
DTSTART:20240310T080000
END:DAYLIGHT
BEGIN:STANDARD
TZOFFSETFROM:-0500
TZOFFSETTO:-0600
TZNAME:CST
DTSTART:20241103T070000
END:STANDARD
BEGIN:DAYLIGHT
TZOFFSETFROM:-0600
TZOFFSETTO:-0500
TZNAME:CDT
DTSTART:20250309T080000
END:DAYLIGHT
BEGIN:STANDARD
TZOFFSETFROM:-0500
TZOFFSETTO:-0600
TZNAME:CST
DTSTART:20251102T070000
END:STANDARD
END:VTIMEZONE
BEGIN:VEVENT
DTSTART;TZID=America/Chicago:20240902T080000
DTEND;TZID=America/Chicago:20240902T170000
DTSTAMP:20260420T200229
CREATED:20240811T135748Z
LAST-MODIFIED:20240811T141221Z
UID:10002382-1725264000-1725296400@www.namigmv.org
SUMMARY:Now Registering for Family supporting an Adult loved one education program
DESCRIPTION:An eight-session course for family members\, caregivers and friends of an adult loved one living with a mental health condition. \nLearn More\nBlack Hawk College\, Moline beginning Tuesday\, September 9 NAMI Family 2 Family Flier BHC 9.9.24 \nHill Church\, Kewanee beginning Tuesday\, October 1 NAMI Family 2 Family Flier Hill Church in Kewanee Oct 1 \nEn Espanol\, West Liberty Foods Supply Chain Building\, Thursday\, October 3 NAMI Family to Family Flier Spanish – WL 10.3.24
URL:https://www.namigmv.org/event/now-registering-for-family-supporting-an-adult-loved-one-education-program/
CATEGORIES:Family training
END:VEVENT
BEGIN:VEVENT
DTSTART;TZID=America/Chicago:20240903T183000
DTEND;TZID=America/Chicago:20240903T200000
DTSTAMP:20260420T200229
CREATED:20240717T214408Z
LAST-MODIFIED:20240719T161936Z
UID:10002259-1725388200-1725393600@www.namigmv.org
SUMMARY:Parents and Caregivers of Youth Support Group - 1st Tuesday
DESCRIPTION:Register Today. \nVirtual. After registering\, You will receive a system email response with the following information: Zoom Online Meeting Login information. This video meeting is not recorded to ensure your privacy and safety. \nNAMI Support Group Guidelines – our group guidelines provide confidentiality and respect for one another. We use a nationally-developed model to guide our conversation. Our facilitators are trained NAMI education volunteers who all have lived experience supporting a youth living with a mental illness. This a specialized NAMI Family Support Group for caregivers of youth living with or exhibiting symptoms of a mental health condition. Parents\, foster parents\, grandparents and other direct caregivers are welcome to attend. As always\, participation is confidential and there is no cost to attend. \nThanks to the Eastern Iowa Mental Health Region for supporting this program. The support group is offered in cooperation with the many agencies working to improve children’s mental health. All caregivers are welcome.
URL:https://www.namigmv.org/event/parents-and-caregivers-of-youth-support-group-11/2024-09-03/
LOCATION:Virtual
CATEGORIES:Family training,Support Group Facilitators
ORGANIZER;CN="Caroline Vernon":MAILTO:coordinator@namigmv.org
END:VEVENT
BEGIN:VEVENT
DTSTART;TZID=America/Chicago:20240909T180000
DTEND;TZID=America/Chicago:20240909T203000
DTSTAMP:20260420T200229
CREATED:20240811T140858Z
LAST-MODIFIED:20240811T141308Z
UID:10002383-1725904800-1725913800@www.namigmv.org
SUMMARY:1st Day Family to Family Education Program - Moline
DESCRIPTION:NAMI Family 2 Family Flier BHC 9.9.24 \n\nAn eight-session course for family members\, caregivers and friends of an adult loved one living with a mental health condition. \nMondays beginning September 9. Learn More\nAdvance Registrations taken by NAMI. Register Now. \nClass size is limited to (20). As this course is funded by the Rock Island Mental Health 708 Board\, residents of Rock Island County are given registration priority. For further information\, call our NAMI office at 563-386-7477-x 266 (M-F 10-2).
URL:https://www.namigmv.org/event/1st-day-family-to-family-education-program-moline-2/
LOCATION:Black Hawk College\, 6600 34th Ave\, Moline\, IL\, 61265\, United States
CATEGORIES:Family training
GEO:41.4774774;-90.4482304
X-APPLE-STRUCTURED-LOCATION;VALUE=URI;X-ADDRESS=Black Hawk College 6600 34th Ave Moline IL 61265 United States;X-APPLE-RADIUS=500;X-TITLE=6600 34th Ave:geo:-90.4482304,41.4774774
END:VEVENT
BEGIN:VEVENT
DTSTART;TZID=America/Chicago:20240910T183000
DTEND;TZID=America/Chicago:20240910T193000
DTSTAMP:20260420T200229
CREATED:20240401T155553Z
LAST-MODIFIED:20240401T160338Z
UID:10002132-1725993000-1725996600@www.namigmv.org
SUMMARY:NAMI Connection Peer Recovery Support Group - Davenport
DESCRIPTION:A group for adults living with a mental health condition. No cost to attend. 2nd Tuesday of each month from 6:30 to 7:30 PM \nThis group is held in-person at St. Paul Lutheran Church\, Room 208\, 2136 Brady Street\, Davenport. \n(If you are looking for an online group\, NAMI Illinois offers virtual groups Monday & Thursday @ 7 p.m. Please follow NAMI Illinois link.) \nWHAT YOU’LL GAIN: \nBy sharing your experiences in a safe and confidential setting\, you will gain hope and develop relationships. The group encourages empathy\, productive discussion and a sense of community. \nThis group will help you to:\n~See the individual first\, not the condition\n~Recognize that mental illnesses are medical illnesses that have environmental triggers\n~Understand that mental illness are traumatic events\n~Aim for better coping skills\n~Find strength in sharing experiences\n~Reject stigma and not tolerate discrimination\n~Not judge anyone’s pain\n~Forgive ourselves and reject guilt\n~Embrace humor as healthy\n~Accept that we can not solve every problem \nNAMI Support Groups are unique because they follow a structured model to ensure you and others in the group have an opportunity to be heard and to get what you need. The group is led by trained facilitators who also have a mental health condition.
URL:https://www.namigmv.org/event/nami-connection-peer-recovery-support-group-davenport-3-3/2024-09-10/
LOCATION:St. Paul Lutheran Church\, 2136 Brady Street\, Davenport\, 52803\, United States
ORGANIZER;CN="Caroline Vernon":MAILTO:coordinator@namigmv.org
GEO:41.5412589;-90.574772
X-APPLE-STRUCTURED-LOCATION;VALUE=URI;X-ADDRESS=St. Paul Lutheran Church 2136 Brady Street Davenport 52803 United States;X-APPLE-RADIUS=500;X-TITLE=2136 Brady Street:geo:-90.574772,41.5412589
END:VEVENT
BEGIN:VEVENT
DTSTART;TZID=America/Chicago:20240912T173000
DTEND;TZID=America/Chicago:20240912T193000
DTSTAMP:20260420T200229
CREATED:20240719T212649Z
LAST-MODIFIED:20240811T142630Z
UID:10002379-1726162200-1726169400@www.namigmv.org
SUMMARY:Para Familiares y Amigos - West Liberty
DESCRIPTION:LO QUE APRENDERÁS:  \nEste programa gratuito de 90 minutos es impartido por un equipo de educadores familiares certificados de NAMI que comprenden su situación porque ellos también han pasado por algo similar. \nSu objetivo es ofrecer habilidades prácticas e información para abordar sus inquietudes inmediatas. \n Comprender los diagnósticos de salud mental tratamiento y recuperación \n\nEstrategias de comunicación efectivas\nLa importancia del autocuidado\nEstrategias de preparación para crisis\nNAMI y recursos comunitarios\n\nCentro Comunitario de Libertad Occidental. Se servirá la cena 5:30 a 6:00 p.m.  Presentación 6-7:30 p.m. Se proporcionará cuidado de niños. \nRegistro
URL:https://www.namigmv.org/event/para-familiares-y-amigos-west-liberty/
LOCATION:West Liberty Community Center\, 1204 N Calhoun St.\, West Liberty\, IA\, 52776\, United States
CATEGORIES:Family training
END:VEVENT
BEGIN:VEVENT
DTSTART;TZID=America/Chicago:20240917T183000
DTEND;TZID=America/Chicago:20240917T200000
DTSTAMP:20260420T200229
CREATED:20240719T162320Z
LAST-MODIFIED:20240719T162320Z
UID:10002319-1726597800-1726603200@www.namigmv.org
SUMMARY:Parents and Caregivers of Youth Support Group - 3rd Tuesday
DESCRIPTION:Register Today. \nVirtual. After registering\, You will receive a system email response with the following information: Zoom Online Meeting Login information. This video meeting is not recorded to ensure your privacy and safety. \nNAMI Support Group Guidelines – our group guidelines provide confidentiality and respect for one another. We use a nationally-developed model to guide our conversation. Our facilitators are trained NAMI education volunteers who all have lived experience supporting a youth living with a mental illness. This a specialized NAMI Family Support Group for caregivers of youth living with or exhibiting symptoms of a mental health condition. Parents\, foster parents\, grandparents and other direct caregivers are welcome to attend. As always\, participation is confidential and there is no cost to attend. \nThanks to the Eastern Iowa Mental Health Region for supporting this program. The support group is offered in cooperation with the many agencies working to improve children’s mental health. All caregivers are welcome.
URL:https://www.namigmv.org/event/parents-and-caregivers-of-youth-support-group-3rd-tuesday/2024-09-17/
LOCATION:Virtual
CATEGORIES:Family training,Support Group Facilitators
END:VEVENT
BEGIN:VEVENT
DTSTART;TZID=America/Chicago:20240919T180000
DTEND;TZID=America/Chicago:20240919T193000
DTSTAMP:20260420T200229
CREATED:20240731T010256Z
LAST-MODIFIED:20240811T142702Z
UID:10002380-1726768800-1726774200@www.namigmv.org
SUMMARY:NAMI Family & Friends Seminar - Kewanee
DESCRIPTION:This is a 90-minute seminar that informs people who have loved ones with a mental health condition how to best support them. It’s also an opportunity to meet other people in similar situations and gain community support. \nRegister Through NAMI. \nWHAT YOU’LL LEARN …\nThe seminar is led by trained people with lived experience of supporting a family member with a mental health condition. They will walk you through the following topics. \n– Understanding diagnoses\, treatment and recovery\n– Effective communication strategies\n– The importance of self-care\n– Crisis preparation strategies\n– NAMI and community resources \nADDITIONAL RESOURCES …\nOnce you’ve attended our seminar\, we’ll send you Family & Friends companion eBook at no charge. It provides important information about mental health conditions including: conditions and diagnoses\, treatment and recovery\, crisis planning\, resources and more.
URL:https://www.namigmv.org/event/nami-family-friends-seminar-kewanee/
LOCATION:Hill Church\, 107 N. Main Street\, Kewanee\, IL\, 61443\, United States
CATEGORIES:Family training,Outreach
END:VEVENT
BEGIN:VEVENT
DTSTART;TZID=America/Chicago:20240919T183000
DTEND;TZID=America/Chicago:20240919T193000
DTSTAMP:20260420T200229
CREATED:20231031T185906Z
LAST-MODIFIED:20240828T162835Z
UID:10002108-1726770600-1726774200@www.namigmv.org
SUMMARY:NAMI Family Support Group
DESCRIPTION:This group meets the  3rd Thursday of each month at 6:30 p.m. at St. Paul Lutheran Church\, Room 208\, Davenport. \nFacilitators are Deb Frick\, Tami Bogosian and Kelly Heilig. \nOpen to family and friends of loved ones living with a mental health condition. As a family member you can face unique challenges: complex family dynamics\, social isolation and often unpredictable aspects of the condition. It can be overwhelming. Learn from others and our facilitators who have experience supporting youth and adults living with a mental health condition. \n\n\n\n\n\n\n\nNAMI’s mental health support groups are unique for a number of reasons.\n\n\n\n\n\n\n\nSupport groups are peer-led. A trained facilitator with lived mental illness experience will lead the group using a structured model. This ensures everyone has an opportunity to be heard and have their unique needs met. You are not alone and will never feel that way when you’re here.\nBy sharing your experiences in a safe and confidential setting\, you will gain hope and develop relationships. You will also gain insight from hearing the challenges and triumphs of others. The group encourages empathy\, productive discussion and a sense of community.\nWe also invite humor where appropriate as laughter is sometimes the best medicine!\nWhile NAMI does not offer counseling\, our support groups are often used to supplement the care you receive from a mental health professional.\n\n\nAs with all of our programs\, support groups are free and confidential. Walk-ins welcome.
URL:https://www.namigmv.org/event/nami-family-support-group/2024-09-19/
LOCATION:St. Paul Lutheran Church\, 2136 Brady Street\, Davenport\, 52803\, United States
CATEGORIES:Family training
ORGANIZER;CN="Caroline Vernon":MAILTO:coordinator@namigmv.org
GEO:41.5412589;-90.574772
X-APPLE-STRUCTURED-LOCATION;VALUE=URI;X-ADDRESS=St. Paul Lutheran Church 2136 Brady Street Davenport 52803 United States;X-APPLE-RADIUS=500;X-TITLE=2136 Brady Street:geo:-90.574772,41.5412589
END:VEVENT
BEGIN:VEVENT
DTSTART;TZID=America/Chicago:20240923T183000
DTEND;TZID=America/Chicago:20240923T193000
DTSTAMP:20260420T200229
CREATED:20240603T124544Z
LAST-MODIFIED:20240603T124658Z
UID:10002196-1727116200-1727119800@www.namigmv.org
SUMMARY:NAMI Connection Peer Recovery Support Group - Moline
DESCRIPTION:A group for adults living with a mental health condition. No cost to attend. 4th Monday of each month from 6:30 to 7:30 PM \nThis group is held in-person at the Butterworth Center – Orchid Room\, @ 1105 8th St.\, Moline. Use parking lot at 8th St. & 11th Ave. \n(If you are looking for an online group\, NAMI Illinois offers virtual groups Monday & Thursday @ 7 p.m. Please follow NAMI Illinois link.) \nWHAT YOU’LL GAIN: \nBy sharing your experiences in a safe and confidential setting\, you will gain hope and develop relationships. The group encourages empathy\, productive discussion and a sense of community. \nThis group will help you to:\n~See the individual first\, not the condition\n~Recognize that mental illnesses are medical illnesses that have environmental triggers\n~Understand that mental illness are traumatic events\n~Aim for better coping skills\n~Find strength in sharing experiences\n~Reject stigma and not tolerate discrimination\n~Not judge anyone’s pain\n~Forgive ourselves and reject guilt\n~Embrace humor as healthy\n~Accept that we can not solve every problem \nNAMI Support Groups are unique because they follow a structured model to ensure you and others in the group have an opportunity to be heard and to get what you need. The group is led by trained facilitators who also have a mental health condition.
URL:https://www.namigmv.org/event/nami-connection-peer-recovery-support-group-moline-3/2024-09-23/
LOCATION:Butterworth Center\, 1105 8th Street\, Moline\, IL\, 61265\, United States
CATEGORIES:Peer training
ORGANIZER;CN="Caroline Vernon":MAILTO:coordinator@namigmv.org
END:VEVENT
END:VCALENDAR