BEGIN:VCALENDAR
VERSION:2.0
PRODID:-//NAMI Greater Mississippi Valley - ECPv6.15.20//NONSGML v1.0//EN
CALSCALE:GREGORIAN
METHOD:PUBLISH
X-ORIGINAL-URL:https://www.namigmv.org
X-WR-CALDESC:Events for NAMI Greater Mississippi Valley
REFRESH-INTERVAL;VALUE=DURATION:PT1H
X-Robots-Tag:noindex
X-PUBLISHED-TTL:PT1H
BEGIN:VTIMEZONE
TZID:America/Chicago
BEGIN:DAYLIGHT
TZOFFSETFROM:-0600
TZOFFSETTO:-0500
TZNAME:CDT
DTSTART:20250309T080000
END:DAYLIGHT
BEGIN:STANDARD
TZOFFSETFROM:-0500
TZOFFSETTO:-0600
TZNAME:CST
DTSTART:20251102T070000
END:STANDARD
BEGIN:DAYLIGHT
TZOFFSETFROM:-0600
TZOFFSETTO:-0500
TZNAME:CDT
DTSTART:20260308T080000
END:DAYLIGHT
BEGIN:STANDARD
TZOFFSETFROM:-0500
TZOFFSETTO:-0600
TZNAME:CST
DTSTART:20261101T070000
END:STANDARD
BEGIN:DAYLIGHT
TZOFFSETFROM:-0600
TZOFFSETTO:-0500
TZNAME:CDT
DTSTART:20270314T080000
END:DAYLIGHT
BEGIN:STANDARD
TZOFFSETFROM:-0500
TZOFFSETTO:-0600
TZNAME:CST
DTSTART:20271107T070000
END:STANDARD
END:VTIMEZONE
BEGIN:VEVENT
DTSTART;TZID=America/Chicago:20260427T183000
DTEND;TZID=America/Chicago:20260427T193000
DTSTAMP:20260424T225103
CREATED:20251209T183251Z
LAST-MODIFIED:20251209T183251Z
UID:10002215-1777314600-1777318200@www.namigmv.org
SUMMARY:NAMI Connection Peer Recovery Support Group - Moline
DESCRIPTION:A group for adults living with a mental health condition. No cost to attend. 4th Monday of each month from 6:30 to 7:30 PM \nThis group is held in-person at the Butterworth Center – Orchid Room\, @ 1105 8th St.\, Moline. Use parking lot at 8th St. & 11th Ave. \nWHAT YOU’LL GAIN: \nBy sharing your experiences in a safe and confidential setting\, you will gain hope and develop relationships. The group encourages empathy\, productive discussion and a sense of community. \nThis group will help you to:\n~See the individual first\, not the condition\n~Recognize that mental illnesses are medical illnesses that have environmental triggers\n~Understand that mental illness are traumatic events\n~Aim for better coping skills\n~Find strength in sharing experiences\n~Reject stigma and not tolerate discrimination\n~Not judge anyone’s pain\n~Forgive ourselves and reject guilt\n~Embrace humor as healthy\n~Accept that we can not solve every problem \nNAMI Support Groups are unique because they follow a structured model to ensure you and others in the group have an opportunity to be heard and to get what you need. The group is led by trained facilitators who also have a mental health condition.
URL:https://www.namigmv.org/event/nami-connection-peer-recovery-support-group-moline-3-3-2/2026-04-27/
LOCATION:Butterworth Center\, 1105 8th Street\, Moline\, IL\, 61265\, United States
CATEGORIES:Peer training
ORGANIZER;CN="Mark Mathews":MAILTO:mark.mathews@namigmv.org
END:VEVENT
BEGIN:VEVENT
DTSTART;TZID=America/Chicago:20260430T120000
DTEND;TZID=America/Chicago:20260430T150000
DTSTAMP:20260424T225103
CREATED:20260331T150344Z
LAST-MODIFIED:20260331T150344Z
UID:10003002-1777550400-1777561200@www.namigmv.org
SUMMARY:Lunch & Learn with Student Presentation in Muscatine
DESCRIPTION:  \nInterested in learning more about the dangers of today’s marijuana? Join NAMI GMV\, Muscatine County Public Health\, and Make It OK; Muscatine for a full day of events with Johnny’s Ambassadors Founder & CEO\, Laura Stack. \nThe first event\, a Lunch & Learn Seminar\, will take place from 12:00-1:00 PM. Pre-registration is required for a lunch reservation. \nThe second event\, a Student & Parent Presentation\, will take place from 2:00-3:00 PM. Registration is not required. \nThroughout the day\, you will hear Laura’s personal story and the research behind her mission to educate parents and teens about the dangers of high-potency marijuana products. Those who attend will learn about the harmful effects of THC on adolescent and teen brain development and the connection between adolescent marijuana use and mental illness. \nTO REGISTER: Scan the QR code! Registration for the Lunch & Learn closes on April 22. \nFor questions or concerns\, contact NAMI Member\, Sara Carlson\, at (563) 506 0241.
URL:https://www.namigmv.org/event/lunch-learn-with-student-presentation-in-muscatine/
LOCATION:Rendezvous Banquet Facility\, 3127 Lucas Street\, Muscatine\, IA\, 52761\, United States
CATEGORIES:Advocacy,Make it OK,Outreach
END:VEVENT
END:VCALENDAR