BEGIN:VCALENDAR
VERSION:2.0
PRODID:-//NAMI Greater Mississippi Valley - ECPv6.15.20//NONSGML v1.0//EN
CALSCALE:GREGORIAN
METHOD:PUBLISH
X-WR-CALNAME:NAMI Greater Mississippi Valley
X-ORIGINAL-URL:https://www.namigmv.org
X-WR-CALDESC:Events for NAMI Greater Mississippi Valley
REFRESH-INTERVAL;VALUE=DURATION:PT1H
X-Robots-Tag:noindex
X-PUBLISHED-TTL:PT1H
BEGIN:VTIMEZONE
TZID:America/Chicago
BEGIN:DAYLIGHT
TZOFFSETFROM:-0600
TZOFFSETTO:-0500
TZNAME:CDT
DTSTART:20180311T080000
END:DAYLIGHT
BEGIN:STANDARD
TZOFFSETFROM:-0500
TZOFFSETTO:-0600
TZNAME:CST
DTSTART:20181104T070000
END:STANDARD
BEGIN:DAYLIGHT
TZOFFSETFROM:-0600
TZOFFSETTO:-0500
TZNAME:CDT
DTSTART:20190310T080000
END:DAYLIGHT
BEGIN:STANDARD
TZOFFSETFROM:-0500
TZOFFSETTO:-0600
TZNAME:CST
DTSTART:20191103T070000
END:STANDARD
BEGIN:DAYLIGHT
TZOFFSETFROM:-0600
TZOFFSETTO:-0500
TZNAME:CDT
DTSTART:20200308T080000
END:DAYLIGHT
BEGIN:STANDARD
TZOFFSETFROM:-0500
TZOFFSETTO:-0600
TZNAME:CST
DTSTART:20201101T070000
END:STANDARD
END:VTIMEZONE
BEGIN:VEVENT
DTSTART;TZID=America/Chicago:20191213T180000
DTEND;TZID=America/Chicago:20191213T210000
DTSTAMP:20260421T083320
CREATED:20191117T170210Z
LAST-MODIFIED:20191117T170244Z
UID:10001591-1576260000-1576270800@www.namigmv.org
SUMMARY:Bucktown Wine Walk for NAMI
DESCRIPTION:Purchase a hand painted wine glass and sample unique wines from Dimitri Wine & Spirits. Enjoy the strolling Black Hawk College Community Chorale. Shop for unique gifts made by local artists. \nWine glass and 5 sampling tickets are $20. Try an interesting red or white wine\, or sparkling water. \nA portion of gallery sales will be donated to artists programming at Bucktown and NAMI. \nSee the special exhibit “Show Your Colors – Celebrate the Unity in Our Community” November 16 to January 11. \nNOTE: The second floor of Bucktown is not handicap accessible. The building’s elevator was ruined in the Big Flood and is still under re-construction. The galleries are jam-packed on the first floor with things to see and the Chorale will perform on the first floor as well.
URL:https://www.namigmv.org/event/bucktown-wine-walk-for-nami/
LOCATION:Bucktown Center for the Arts\, 225 E. 2nd Street\, Davenport\, IA\, 52801\, United States
CATEGORIES:Fundraiser,Outreach
ORGANIZER;CN="Angela Gallagher":MAILTO:ExecDir@namigmv.org
GEO:41.5210054;-90.5714166
X-APPLE-STRUCTURED-LOCATION;VALUE=URI;X-ADDRESS=Bucktown Center for the Arts 225 E. 2nd Street Davenport IA 52801 United States;X-APPLE-RADIUS=500;X-TITLE=225 E. 2nd Street:geo:-90.5714166,41.5210054
END:VEVENT
BEGIN:VEVENT
DTSTART;TZID=America/Chicago:20191201T080000
DTEND;TZID=America/Chicago:20191201T170000
DTSTAMP:20260421T083320
CREATED:20191117T165441Z
LAST-MODIFIED:20191117T165441Z
UID:10001590-1575187200-1575219600@www.namigmv.org
SUMMARY:Shop for NAMI at Bucktown through December 15
DESCRIPTION:Bucktown Center for the Arts invites you to explore and find fabulous holiday gifts. A percentage of gallery sales through December 15 goes to the NAMI Greater Mississippi Valley for no-cost family education programs. \nThere is something for everyone at Bucktown. Find gifts from under $10 to large paintings and sculptures. New artists include jewelry\, handmade clothing\, soaps\, and toy dolls and animals. \nOpen Wednesday\, Thursday\, Friday and Saturday from 11 a.m. to 6 p.m. Special Sunday hours noon to 4 p.m. through December 15. \nWant to keep your gift a secret? Paint your own gift wrap and we’ll wrap your present Saturday December 14 from 11 a.m. to 6 p.m. and Sunday December 15 from noon to 4 p.m.
URL:https://www.namigmv.org/event/shop-for-nami-at-bucktown-through-december-15/
LOCATION:Bucktown Center for the Arts\, 225 E. 2nd Street\, Davenport\, IA\, 52801\, United States
CATEGORIES:Fundraiser
ORGANIZER;CN="Angela Gallagher":MAILTO:ExecDir@namigmv.org
GEO:41.5210054;-90.5714166
X-APPLE-STRUCTURED-LOCATION;VALUE=URI;X-ADDRESS=Bucktown Center for the Arts 225 E. 2nd Street Davenport IA 52801 United States;X-APPLE-RADIUS=500;X-TITLE=225 E. 2nd Street:geo:-90.5714166,41.5210054
END:VEVENT
BEGIN:VEVENT
DTSTART;TZID=America/Chicago:20191129T110000
DTEND;TZID=America/Chicago:20191129T210000
DTSTAMP:20260421T083320
CREATED:20191117T165005Z
LAST-MODIFIED:20191117T165151Z
UID:10001589-1575025200-1575061200@www.namigmv.org
SUMMARY:Bucktown's Shop for NAMI Opens Today
DESCRIPTION:In conjunction with That Damn Shopping Trip and Shop Small Saturday\, Bucktown Center for the Arts invites you to explore and find fabulous holiday gifts. A percentage of gallery sales through December 15 goes to the NAMI Greater Mississippi Valley for no-cost family education programs. \nThere is something for everyone at Bucktown. Find gifts from under $10 to large paintings and sculptures. New artists include jewelry\, handmade clothing\, soaps\, and toy dolls and animals. \nOpen Wednesday\, Thursday\, Friday and Saturday from 11 a.m. to 6 p.m. Special Sunday hours noon to 4 p.m. through December 15. \nWant to keep your gift a secret? Paint your own gift wrap and we’ll wrap your present Saturday December 14 from 11 a.m. to 6 p.m. and Sunday December 15 from noon to 4 p.m. \nBucktown’s second floor is not handicap accessible due to elevator damage from the Big Flood.
URL:https://www.namigmv.org/event/bucktowns-shop-for-nami-opens-today/
LOCATION:Bucktown Center for the Arts\, 225 E. 2nd Street\, Davenport\, IA\, 52801\, United States
CATEGORIES:Fundraiser,Outreach
ORGANIZER;CN="Angela Gallagher":MAILTO:ExecDir@namigmv.org
GEO:41.5210054;-90.5714166
X-APPLE-STRUCTURED-LOCATION;VALUE=URI;X-ADDRESS=Bucktown Center for the Arts 225 E. 2nd Street Davenport IA 52801 United States;X-APPLE-RADIUS=500;X-TITLE=225 E. 2nd Street:geo:-90.5714166,41.5210054
END:VEVENT
END:VCALENDAR