BEGIN:VCALENDAR
VERSION:2.0
PRODID:-//NAMI Greater Mississippi Valley - ECPv6.15.20//NONSGML v1.0//EN
CALSCALE:GREGORIAN
METHOD:PUBLISH
X-WR-CALNAME:NAMI Greater Mississippi Valley
X-ORIGINAL-URL:https://www.namigmv.org
X-WR-CALDESC:Events for NAMI Greater Mississippi Valley
REFRESH-INTERVAL;VALUE=DURATION:PT1H
X-Robots-Tag:noindex
X-PUBLISHED-TTL:PT1H
BEGIN:VTIMEZONE
TZID:America/Chicago
BEGIN:DAYLIGHT
TZOFFSETFROM:-0600
TZOFFSETTO:-0500
TZNAME:CDT
DTSTART:20180311T080000
END:DAYLIGHT
BEGIN:STANDARD
TZOFFSETFROM:-0500
TZOFFSETTO:-0600
TZNAME:CST
DTSTART:20181104T070000
END:STANDARD
BEGIN:DAYLIGHT
TZOFFSETFROM:-0600
TZOFFSETTO:-0500
TZNAME:CDT
DTSTART:20190310T080000
END:DAYLIGHT
BEGIN:STANDARD
TZOFFSETFROM:-0500
TZOFFSETTO:-0600
TZNAME:CST
DTSTART:20191103T070000
END:STANDARD
BEGIN:DAYLIGHT
TZOFFSETFROM:-0600
TZOFFSETTO:-0500
TZNAME:CDT
DTSTART:20200308T080000
END:DAYLIGHT
BEGIN:STANDARD
TZOFFSETFROM:-0500
TZOFFSETTO:-0600
TZNAME:CST
DTSTART:20201101T070000
END:STANDARD
BEGIN:DAYLIGHT
TZOFFSETFROM:-0600
TZOFFSETTO:-0500
TZNAME:CDT
DTSTART:20210314T080000
END:DAYLIGHT
BEGIN:STANDARD
TZOFFSETFROM:-0500
TZOFFSETTO:-0600
TZNAME:CST
DTSTART:20211107T070000
END:STANDARD
BEGIN:DAYLIGHT
TZOFFSETFROM:-0600
TZOFFSETTO:-0500
TZNAME:CDT
DTSTART:20220313T080000
END:DAYLIGHT
BEGIN:STANDARD
TZOFFSETFROM:-0500
TZOFFSETTO:-0600
TZNAME:CST
DTSTART:20221106T070000
END:STANDARD
BEGIN:DAYLIGHT
TZOFFSETFROM:-0600
TZOFFSETTO:-0500
TZNAME:CDT
DTSTART:20230312T080000
END:DAYLIGHT
BEGIN:STANDARD
TZOFFSETFROM:-0500
TZOFFSETTO:-0600
TZNAME:CST
DTSTART:20231105T070000
END:STANDARD
BEGIN:DAYLIGHT
TZOFFSETFROM:-0600
TZOFFSETTO:-0500
TZNAME:CDT
DTSTART:20240310T080000
END:DAYLIGHT
BEGIN:STANDARD
TZOFFSETFROM:-0500
TZOFFSETTO:-0600
TZNAME:CST
DTSTART:20241103T070000
END:STANDARD
END:VTIMEZONE
BEGIN:VEVENT
DTSTART;TZID=America/Chicago:20230323T180000
DTEND;TZID=America/Chicago:20230323T193000
DTSTAMP:20260419T064605
CREATED:20230130T195137Z
LAST-MODIFIED:20230130T195137Z
UID:10001933-1679594400-1679599800@www.namigmv.org
SUMMARY:NAMI Family & Friends Seminar - Davenport & Virtual
DESCRIPTION:This is a 90-minute seminar that informs people who have loved ones with a mental health condition how to best support them. It’s also an opportunity to meet other people in similar situations and gain community support. \nThis is a hybrid event – please indicate whether you will attend in-person or online when you register. Boxed\, light supper provided for in-person attendees. \nRegister Here. \nWHAT YOU’LL LEARN …\nThe seminar is led by trained people with lived experience of supporting a family member with a mental health condition. They will walk you through the following topics. \n– Understanding diagnoses\, treatment and recovery\n– Effective communication strategies\n– The importance of self-care\n– Crisis preparation strategies\n– NAMI and community resources \nADDITIONAL RESOURCES …\nOnce you’ve attended our seminar\, we’ll send you Family & Friends companion eBook at no charge. It provides important information about mental health conditions including: conditions and diagnoses\, treatment and recovery\, crisis planning\, resources and more.
URL:https://www.namigmv.org/event/nami-family-friends-seminar-davenport-virtual/
LOCATION:Davenport Public Library Fairmount Branch\, 3000 N. Fairmount Street\, Davenport\, IA\, 52804\, United States
CATEGORIES:Family training
ORGANIZER;CN="Caroline Vernon":MAILTO:coordinator@namigmv.org
GEO:41.5516322;-90.6315951
X-APPLE-STRUCTURED-LOCATION;VALUE=URI;X-ADDRESS=Davenport Public Library Fairmount Branch 3000 N. Fairmount Street Davenport IA 52804 United States;X-APPLE-RADIUS=500;X-TITLE=3000 N. Fairmount Street:geo:-90.6315951,41.5516322
END:VEVENT
BEGIN:VEVENT
DTSTART;TZID=America/Chicago:20230119T180000
DTEND;TZID=America/Chicago:20230119T193000
DTSTAMP:20260419T064605
CREATED:20221119T161308Z
LAST-MODIFIED:20221216T002515Z
UID:10001900-1674151200-1674156600@www.namigmv.org
SUMMARY:NAMI Family & Friends Seminar - Davenport & Virtual
DESCRIPTION:This is a 90-minute seminar that informs people who have loved ones with a mental health condition how to best support them. It’s also an opportunity to meet other people in similar situations and gain community support. \nThis is a hybrid event – please indicate whether you will attend in-person or online when you register. Boxed\, light supper provided for in-person attendees. \nRegister Here. \nWHAT YOU’LL LEARN …\nThe seminar is led by trained people with lived experience of supporting a family member with a mental health condition. They will walk you through the following topics. \n– Understanding diagnoses\, treatment and recovery\n– Effective communication strategies\n– The importance of self-care\n– Crisis preparation strategies\n– NAMI and community resources \nADDITIONAL RESOURCES …\nOnce you’ve attended our seminar\, we’ll send you Family & Friends companion eBook at no charge. It provides important information about mental health conditions including: conditions and diagnoses\, treatment and recovery\, crisis planning\, resources and more.
URL:https://www.namigmv.org/event/11247/
LOCATION:Davenport Public Library Fairmount Branch\, 3000 N. Fairmount Street\, Davenport\, IA\, 52804\, United States
CATEGORIES:Family training
ORGANIZER;CN="Caroline Vernon":MAILTO:coordinator@namigmv.org
GEO:41.5516322;-90.6315951
X-APPLE-STRUCTURED-LOCATION;VALUE=URI;X-ADDRESS=Davenport Public Library Fairmount Branch 3000 N. Fairmount Street Davenport IA 52804 United States;X-APPLE-RADIUS=500;X-TITLE=3000 N. Fairmount Street:geo:-90.6315951,41.5516322
END:VEVENT
BEGIN:VEVENT
DTSTART;TZID=America/Chicago:20221117T180000
DTEND;TZID=America/Chicago:20221117T193000
DTSTAMP:20260419T064605
CREATED:20221007T221107Z
LAST-MODIFIED:20221119T160758Z
UID:10001893-1668708000-1668713400@www.namigmv.org
SUMMARY:NAMI Family & Friends Seminar
DESCRIPTION:This is a 90-minute seminar that informs people who have loved ones with a mental health condition how to best support them. It’s also an opportunity to meet other people in similar situations and gain community support. \nThis is an in-person event and we’re working on virtual broadcast capabilities (stay tuned). Boxed\, light supper will be provided so please register. \nRegister Here. \nWHAT YOU’LL LEARN …\nThe seminar is led by trained people with lived experience of supporting a family member with a mental health condition. They will walk you through the following topics. \n– Understanding diagnoses\, treatment and recovery\n– Effective communication strategies\n– The importance of self-care\n– Crisis preparation strategies\n– NAMI and community resources \nADDITIONAL RESOURCES …\nOnce you’ve attended our seminar\, we’ll send you Family & Friends companion eBook at no charge. It provides important information about mental health conditions including: conditions and diagnoses\, treatment and recovery\, crisis planning\, resources and more.
URL:https://www.namigmv.org/event/nami-family-friends-seminar-16/
LOCATION:Davenport Public Library Fairmount Branch\, 3000 N. Fairmount Street\, Davenport\, IA\, 52804\, United States
CATEGORIES:Family training
ORGANIZER;CN="Caroline Vernon":MAILTO:coordinator@namigmv.org
GEO:41.5516322;-90.6315951
X-APPLE-STRUCTURED-LOCATION;VALUE=URI;X-ADDRESS=Davenport Public Library Fairmount Branch 3000 N. Fairmount Street Davenport IA 52804 United States;X-APPLE-RADIUS=500;X-TITLE=3000 N. Fairmount Street:geo:-90.6315951,41.5516322
END:VEVENT
BEGIN:VEVENT
DTSTART;TZID=America/Chicago:20220512T183000
DTEND;TZID=America/Chicago:20220512T200000
DTSTAMP:20260419T064605
CREATED:20220418T235614Z
LAST-MODIFIED:20220421T183152Z
UID:10001870-1652380200-1652385600@www.namigmv.org
SUMMARY:Journaling for Mental Wellness
DESCRIPTION:NAMI Greater Mississippi Valley and The Midwest Writing Center volunteers are pleased to present a May Mental Health Awareness event. \nThis is a hybrid event. Join us online or in person. Register to get virtual link. \nCounselor Christina Wassenhove will cover the mental health benefits of writing and why she highly recommends it to the individuals she works with. There’s plenty of scientific evidence that proves journaling reduces stress\, improves memory\, and helps you regulate emotions. Christina will show you grounding techniques used in journaling. \nWriter Jodie Toohey comes to us from the Midwest Writing Center and shewill pick up on the grounding theme and show you how to use your senses asa framework for writing. She will introduce you to the “free-writing style” and guide you as you try several writing exercises. We’ll leave time for a robust discussion at the end of the seminar. Come prepared with a journal\, paper\,and something to write with. Invest in your well-being. \nRegister Here. \n 
URL:https://www.namigmv.org/event/journaling-for-mental-wellness/
LOCATION:Davenport Public Library Fairmount Branch\, 3000 N. Fairmount Street\, Davenport\, IA\, 52804\, United States
CATEGORIES:Outreach
ORGANIZER;CN="Angela Gallagher":MAILTO:ExecDir@namigmv.org
GEO:41.5516322;-90.6315951
X-APPLE-STRUCTURED-LOCATION;VALUE=URI;X-ADDRESS=Davenport Public Library Fairmount Branch 3000 N. Fairmount Street Davenport IA 52804 United States;X-APPLE-RADIUS=500;X-TITLE=3000 N. Fairmount Street:geo:-90.6315951,41.5516322
END:VEVENT
BEGIN:VEVENT
DTSTART;TZID=America/Chicago:20190910T180000
DTEND;TZID=America/Chicago:20190910T193000
DTSTAMP:20260419T064605
CREATED:20190904T183556Z
LAST-MODIFIED:20190904T183556Z
UID:10001556-1568138400-1568143800@www.namigmv.org
SUMMARY:Navigating a Mental Health Crisis Seminar
DESCRIPTION:The Davenport Public Library and NAMI GMV are pleased to present a 90-minute seminar for family\, caregivers and friends interested in preventing and navigating a mental health crisis. No registration needed – Walk-ins welcome. \nTuesday\, September 10th from 6 to 7:30 p.m.\, 3000 N. Fairmount Street\, Davenport. \n 
URL:https://www.namigmv.org/event/navigating-a-mental-health-crisis-seminar/
LOCATION:Davenport Public Library Fairmount Branch\, 3000 N. Fairmount Street\, Davenport\, IA\, 52804\, United States
CATEGORIES:Outreach
GEO:41.5516322;-90.6315951
X-APPLE-STRUCTURED-LOCATION;VALUE=URI;X-ADDRESS=Davenport Public Library Fairmount Branch 3000 N. Fairmount Street Davenport IA 52804 United States;X-APPLE-RADIUS=500;X-TITLE=3000 N. Fairmount Street:geo:-90.6315951,41.5516322
END:VEVENT
BEGIN:VEVENT
DTSTART;TZID=America/Chicago:20190511T143000
DTEND;TZID=America/Chicago:20190511T160000
DTSTAMP:20260419T064605
CREATED:20190406T010415Z
LAST-MODIFIED:20190406T010824Z
UID:10001521-1557585000-1557590400@www.namigmv.org
SUMMARY:Family & Friends Seminar @ Davenport Library Fairmount Street
DESCRIPTION:NAMI Family & Friends is a free 90-minute seminar that informs people who have loved ones with a mental health condition how to best support them. It’s also an opportunity to meet other people in similar situations and gain community support.\n\n\n\n\n\nPlease pre-register at  or 563-386-7477 Ext. 266 (M-F 10-2). This event will be held at the Davenport Public Library\, 3000 Fairmount Street.\n\n\n\n\n\nWHAT YOU’LL LEARN …\nThe seminar is led by trained people with lived experience of supporting a family member with a mental health condition. They will walk you through the following topics.- Understanding diagnoses\, treatment and recovery\n– Effective communication strategies\n– The importance of self-care\n– Crisis preparation strategies\n– NAMI and community resources\nADDITIONAL RESOURCES …\nThe NAMI Family & Friends companion eBook provides important information about mental health conditions including: conditions and diagnoses\, treatment and recovery\, crisis planning\, resources and more. Register and we’ll send you links where you can download it for free at Amazon and Barnes & Noble where select languages are available for the Kindle\, Nook and compatible eBook apps.\nCOMMUNITY PARTNERS\nThis seminar is made available by a grant from the Regional Development Authority.
URL:https://www.namigmv.org/event/family-friends-seminar-davenport-library-fairmount-street/
LOCATION:Davenport Public Library Fairmount Branch\, 3000 N. Fairmount Street\, Davenport\, IA\, 52804\, United States
CATEGORIES:Outreach
GEO:41.5516322;-90.6315951
X-APPLE-STRUCTURED-LOCATION;VALUE=URI;X-ADDRESS=Davenport Public Library Fairmount Branch 3000 N. Fairmount Street Davenport IA 52804 United States;X-APPLE-RADIUS=500;X-TITLE=3000 N. Fairmount Street:geo:-90.6315951,41.5516322
END:VEVENT
END:VCALENDAR