BEGIN:VCALENDAR
VERSION:2.0
PRODID:-//NAMI Greater Mississippi Valley - ECPv6.15.20//NONSGML v1.0//EN
CALSCALE:GREGORIAN
METHOD:PUBLISH
X-ORIGINAL-URL:https://www.namigmv.org
X-WR-CALDESC:Events for NAMI Greater Mississippi Valley
REFRESH-INTERVAL;VALUE=DURATION:PT1H
X-Robots-Tag:noindex
X-PUBLISHED-TTL:PT1H
BEGIN:VTIMEZONE
TZID:America/Chicago
BEGIN:DAYLIGHT
TZOFFSETFROM:-0600
TZOFFSETTO:-0500
TZNAME:CDT
DTSTART:20180311T080000
END:DAYLIGHT
BEGIN:STANDARD
TZOFFSETFROM:-0500
TZOFFSETTO:-0600
TZNAME:CST
DTSTART:20181104T070000
END:STANDARD
BEGIN:DAYLIGHT
TZOFFSETFROM:-0600
TZOFFSETTO:-0500
TZNAME:CDT
DTSTART:20190310T080000
END:DAYLIGHT
BEGIN:STANDARD
TZOFFSETFROM:-0500
TZOFFSETTO:-0600
TZNAME:CST
DTSTART:20191103T070000
END:STANDARD
BEGIN:DAYLIGHT
TZOFFSETFROM:-0600
TZOFFSETTO:-0500
TZNAME:CDT
DTSTART:20200308T080000
END:DAYLIGHT
BEGIN:STANDARD
TZOFFSETFROM:-0500
TZOFFSETTO:-0600
TZNAME:CST
DTSTART:20201101T070000
END:STANDARD
END:VTIMEZONE
BEGIN:VEVENT
DTSTART;TZID=America/Chicago:20190724T113000
DTEND;TZID=America/Chicago:20190724T130000
DTSTAMP:20260420T051334
CREATED:20190613T203530Z
LAST-MODIFIED:20190630T153706Z
UID:10001535-1563967800-1563973200@www.namigmv.org
SUMMARY:NAMIWalks Kickoff Event
DESCRIPTION:Calling all sponsors\, team captains or those interested in becoming a team captain. NAMIWalks will be just 8 weeks away and it’ll be time to celebrate our successes so far and put this walk season into high gear! Come advocate with us for families and mental health services in our community. RSVP for up to 2 people at namiwalks@namigmv.org or 563-386-7477 Ext. 266 (M-F 10-2) or Register Here.\n\n\nIf you have not yet set up your 2019 team page\, please visit www.namiwalks.org/greatermississippivalley or contact Rebecca Ludin at namiwalks@namigmv.org
URL:https://www.namigmv.org/event/namiwalks-kickoff-event/
LOCATION:Hilton Garden Inn\, 959 Middle Road\, Bettendorf\, IA\, 52722\, United States
CATEGORIES:Walk
ORGANIZER;CN="Caroline Vernon":MAILTO:coordinator@namigmv.org
GEO:41.5392022;-90.5190581
X-APPLE-STRUCTURED-LOCATION;VALUE=URI;X-ADDRESS=Hilton Garden Inn 959 Middle Road Bettendorf IA 52722 United States;X-APPLE-RADIUS=500;X-TITLE=959 Middle Road:geo:-90.5190581,41.5392022
END:VEVENT
END:VCALENDAR